{"text_format":"1","workbook":"xlsx","n_sheets":25,"sheets":["記入要綱","第2編表紙","人口の推移","地域人口","年齢別人口","人口動態、外国人登録人口","社会動態（道内）","社会動態（道外）","町内別年齢別人口①","町内別年齢別人口②","町内別年齢別人口③","全道各市の人口","国調人口推移","地域の人口①","地域の人口②","地域の人口③","国調年齢別","人口集中地区、昼間・夜間人口、産業別就業人口","夜間及び昼間人口、通学者数","産業別就業人口","グラフ（入力シート）","グラフ（入力シート）②","グラフ（入力シート）⑤","グラフ（入力シート）⑥","グラフ（入力シート）⑦"],"not_rendered":{"charts":17,"images":1,"macros":1,"external_links":4,"defined_names":9,"comments":0,"pivot_tables":0},"unopened":[],"bounds":{"document_bytes":16777216,"sheet_cells":100000,"rows_first":2000,"rows_last":500,"rows_between":2000,"halvings":0,"cell_chars":16384,"cell_head_chars":4096},"cells_cut":0,"cells_raw":0,"read":"whole","date_system":"1900"}

{"sheet":"記入要綱","index":0,"n_rows":31,"n_cols":10,"rows_kept":31,"cut":false,"hidden":false,"merged":[[31,2,31,4],[6,2,6,4],[7,2,7,4],[8,2,8,4],[9,2,9,4],[10,2,10,4],[11,2,11,4],[12,2,12,4],[13,2,13,4],[14,2,14,4],[25,2,25,4],[26,2,26,4],[27,2,27,4],[28,2,28,4],[29,2,29,4],[4,1,4,5],[16,1,16,5],[18,2,18,4],[19,2,19,4],[2,1,2,9],[18,5,30,7],[20,2,20,4],[21,2,21,4],[22,2,22,4],[23,2,23,4],[24,2,24,4],[30,2,30,4]]}
[]
[]
[null,"第２編　人口"]
[]
[null,"１．住民基本台帳人口"]
[null,null,null,null,null,null,null,null,null,"データ提供"]
[null,null,"１）人口の推移（年次別）",null,null,null,null,null,null,"市民課"]
[null,null,"２）地域の人口",null,null,null,null,null,null,"市民課"]
[null,null,"３）年齢別人口（５歳階級）",null,null,null,null,null,null,"市民課"]
[null,null,"４）人口動態（届出数）",null,null,null,null,null,null,"市民課"]
[null,null,"５）外国人住民の人口",null,null,null,null,null,null,"市民課"]
[null,null,"６）社会動態（道内）",null,null,null,null,null,null,"北海道統計"]
[null,null,"７）社会動態（道外）",null,null,null,null,null,null,"北海道統計"]
[null,null,"８）町内別年齢人口（５歳階級）",null,null,null,null,null,null,"市民課"]
[null,null,"９）全道各市の人口",null,null,null,null,null,null,"北海道統計"]
[]
[null,"２．国勢調査人口"]
[]
[null,null,"１）人口の推移（年次別）",null,null,null,null,null,null,"国勢調査（西暦末尾０、５年調査）"]
[null,null,"２）地域の人口",null,null,null,null,null,null,"国勢調査（西暦末尾０、５年調査）"]
[null,null,"３）年齢別人口（５歳階級）",null,null,null,null,null,null,"国勢調査（西暦末尾０、５年調査）"]
[null,null,"４）人口集中地区人口等",null,null,null,null,null,null,"国勢調査（西暦末尾０、５年調査）"]
[null,null,"５）昼間人口・夜間人口等（概要）",null,null,null,null,null,null,"国勢調査（西暦末尾０、５年調査）"]
[null,null,"６）産業別就業人口 ",null,null,null,null,null,null,"国勢調査（西暦末尾０、５年調査）"]
[null,null,"７）昼間人口・夜間人口等（詳細）",null,null,null,null,null,null,"国勢調査（西暦末尾０、５年調査）"]
[null,null,"８）恵庭市に常住する就業・通学市町",null,null,null,null,null,null,"国勢調査（西暦末尾０、５年調査）"]
[null,null,"村別１５歳以上就業者および通学",null,null,null,null,null,null,"国勢調査（西暦末尾０、５年調査）"]
[null,null,"者数",null,null,null,null,null,null,"国勢調査（西暦末尾０、５年調査）"]
[null,null,"９）恵庭市に就業・通学する常住",null,null,null,null,null,null,"国勢調査（西暦末尾０、５年調査）"]
[null,null,"市町村別１５歳以上就業者および",null,null,null,null,null,null,"国勢調査（西暦末尾０、５年調査）"]
[null,null,"通学者数",null,null,null,null,null,null,"国勢調査（西暦末尾０、５年調査）"]

{"sheet":"第2編表紙","index":1,"n_rows":34,"n_cols":11,"rows_kept":34,"cut":false,"hidden":false,"merged":[[15,1,15,8],[1,0,1,10],[51,8,52,8],[18,8,19,8],[33,10,38,10],[21,10,32,10],[17,10,20,10]]}
[]
["第２編　人　　口"]
[]
[]
[]
[]
[]
[]
[]
[]
[]
[]
[]
[]
[]
[null,"　　　　　　　　            人口及び世帯年齢構成ピラミッド　　"]
[]
[null,null,null,null,null,null,null,null,null,null,"年少人口"]
[]
[]
[]
[null,null,null,null,null,null,null,null,null,null,"生産年齢人口"]
[]
[]
[]
[]
[]
[]
[]
[]
[]
[]
[]
[null,null,null,null,null,null,null,null,null,null,"老齢人口"]

{"sheet":"人口の推移","index":2,"n_rows":76,"n_cols":7,"rows_kept":76,"cut":false,"hidden":false,"merged":[[0,0,0,6],[4,0,5,0],[4,1,5,1],[4,2,4,4],[4,6,5,6],[3,3,3,6]]}
["１．住民基本台帳人口"]
[]
["１) 人口の推移（年次別）"]
[null,null,null,"（各年9月末現在）"]
["年　次","世 帯 数","人　　　口",null,null,"人口密度","備　　考"]
[null,null,"総数","男","女","(1k㎡当たり)"]
["明治30年",143,572,294,278,1.9,"戸町役場開設"]
[44,940,5584,2812,2772,18.899999999999999]
["昭和20年",1925,11235,5443,5792,38.200000000000003]
[26,2378,13496,6811,6685,45.9,"町制施行"]
[27,2767,{"$f":"SUM(D11:E11)","v":14233},7057,7176,{"$f":"C11/294.87","v":48.268728592260999}]
[28,3221,{"$f":"SUM(D12:E12)","v":16109},7959,8150,{"$f":"C12/294.87","v":54.630854274765149}]
[29,3619,18175,9010,9165,61.637331705497338]
[30,4098,19576,9691,9885,66.388578017431414]
[31,4535,20972,10424,10548,71.122867704412116]
[32,4928,22107,11024,11083,74.972021568826946]
[33,10016,27966,16431,11535,94.841794689185065]
[34,10689,28323,16840,11483,96.052497710855633]
[35,11175,29614,17564,12050,100.43069827381558]
[36,10614,28798,16930,11868,97.663377081425708]
[37,10082,28346,16439,11907,96.13049818564113]
[38,9837,29190,16560,12630,98.992776477769866]
[39,10265,30327,17058,13269,102.84871299216604]
[40,10051,31085,17111,13974,105.5]
[41,10065,{"$f":"SUM(D25:E25)","v":31621},17190,14431,{"$f":"C25/294.87","v":107.23708753009801}]
[42,10100,{"$f":"SUM(D26:E26)","v":32369},17383,14986,{"$f":"C26/294.87","v":109.77379862312205}]
[43,17563,{"$f":"SUM(D27:E27)","v":32965},17563,15402,{"$f":"C27/294.87","v":111.79502831756368}]
[44,10428,{"$f":"SUM(D28:E28)","v":33566},17793,15773,{"$f":"C28/294.87","v":113.83321463695866}]
[45,10756,34619,18200,16419,117.5]
[46,11237,35668,18775,16893,121,"市制施行"]
[47,11592,{"$f":"SUM(D31:E31)","v":36645},19191,17454,{"$f":"C31/294.87","v":124.27510428324346}]
[48,11941,{"$f":"SUM(D32:E32)","v":37798},19753,18045,{"$f":"C32/294.87","v":128.18530199749043}]
[49,12366,{"$f":"SUM(D33:E33)","v":38876},20310,18566,{"$f":"C33/294.87","v":131.84115033743683}]
[50,12829,39805,20822,18983,135.1]
[51,13146,{"$f":"SUM(D35:E35)","v":40664},21179,19485,{"$f":"C35/294.87","v":137.9048394207617}]
[52,13447,{"$f":"SUM(D36:E36)","v":41694},21649,20045,{"$f":"C36/294.87","v":141.39790416115576}]
[53,13679,{"$f":"SUM(D37:E37)","v":42169},21834,20335,{"$f":"C37/294.87","v":143.00878353172584}]
[54,14048,{"$f":"SUM(D38:E38)","v":42922},22215,20707,{"$f":"C38/294.87","v":145.56245124970326}]
[55,14343,43465,22481,20984,157.5]
[56,14722,{"$f":"SUM(D40:E40)","v":44256},22860,21396,{"$f":"C40/294.87","v":150.08647878726219}]
[57,15150,{"$f":"SUM(D41:E41)","v":45510},23433,22077,{"$f":"C41/294.87","v":154.33920032556719}]
[58,15677,{"$f":"SUM(D42:E42)","v":46748},23955,22793,{"$f":"C42/294.87","v":158.53766066402144}]
[59,16714,{"$f":"SUM(D43:E43)","v":47817},24439,23378,{"$f":"C43/294.87","v":162.16298707905179}]
[60,16578,48724,24786,23938,165.3]
[61,17144,{"$f":"SUM(D45:E45)","v":49574},25199,24375,{"$f":"C45/294.87","v":168.12154508766574}]
[62,17757,{"$f":"SUM(D46:E46)","v":50785},25750,25035,{"$f":"C46/294.87","v":172.22843965137179}]
[63,18423,{"$f":"SUM(D47:E47)","v":52213},26413,25800,{"$f":"C47/294.87","v":177.07125173805406}]
[" 平成元年",19248,53962,27335,26627,183]
[2,20145,55813,28262,27551,189.3]
[3,21016,{"$f":"SUM(D50:E50)","v":57443},29016,28427,{"$f":"C50/294.87","v":194.80788143927833}]
[4,21799,{"$f":"SUM(D51:E51)","v":58978},29775,29203,{"$f":"C51/294.87","v":200.01356529996269}]
[5,22777,{"$f":"SUM(D52:E52)","v":60484},30750,29734,{"$f":"C52/294.87","v":205.12090073591753}]
[6,23094,{"$f":"SUM(D53:E53)","v":61356},30988,30368,{"$f":"C53/294.87","v":208.07813612778511}]
[7,23723,62372,31531,30841,211.5]
[8,24356,63275,31952,31323,214.6]
[9,24899,64011,32284,31727,217.1]
[10,25356,64485,32462,32023,218.7]
[11,25719,64897,32590,32307,220.1]
[12,26092,65310,32697,32613,221.5]
[13,26388,65590,32785,32805,222.4]
[14,26893,66172,33055,33117,224.4]
[15,27378,66718,33278,33440,226.3]
[16,27461,67191,33391,33800,227.9]
[17,28205,67598,33584,34014,{"$f":"C64/294.87","v":229.24678671957133}]
[18,28725,67942,33688,34254,230.41340251636313]
[19,29188,68417,33763,34654,232.02428188693321]
[20,29731,68685,33867,34818,232.93315698443382]
[21,29958,68608,33773,35835,232.7]
[22,30316,68809,33870,34939,233.4]
[23,30575,68938,33833,35105,233.8]
[24,30909,69126,33806,35320,{"$f":"69126/294.87","v":234.42873130532098}]
[25,31053,{"$f":"D72+E72","v":68876},33648,35228,{"$f":"68876/294.87","v":233.58090005765251}]
[26,31338,68950,33610,35340,233.83185810696239]
["〈資料〉生活環境部市民課",null,null,null,null,null,"（単位：人）"]
["    注) 調査月日…明治は不明、昭和20年は11月1日"]
["    　　住民基本台帳法が改正され、平成24年7月より外国人住民が適用対象となった。"]

{"sheet":"地域人口","index":3,"n_rows":57,"n_cols":27,"rows_kept":57,"cut":false,"hidden":false,"merged":[[2,13,3,13],[0,0,0,1],[1,0,3,0],[1,1,1,4],[1,5,1,8],[1,9,3,9],[1,10,1,13],[2,1,2,3],[2,4,3,4],[2,5,2,7],[2,8,3,8],[2,10,2,12],[2,26,3,26],[1,14,1,17],[1,18,3,18],[1,19,1,22],[1,23,1,26],[2,14,2,16],[2,17,3,17],[2,19,2,21],[2,22,3,22],[2,23,2,25]]}
["２）地域の人口",null,null,null,null,null,null,null,null,null,null,null,null,null,null,null,null,null,null,null,null,null,null,null,null,null,"(各年9月末日)"]
["地　　　区","25年",null,null,null,"26年",null,null,null,"地　　　区","25年",null,null,null,"26年",null,null,null,"地　　　区","25年",null,null,null,"26年"]
[null,"人　口",null,null,"世 帯","人　口",null,null,"世 帯",null,"人　口",null,null,"世 帯","人　口",null,null,"世 帯",null,"人　口",null,null,"世 帯","人　口",null,null,"世 帯"]
[null,"計","男","女",null,"計","男","女",null,null,"計","男","女",null,"計","男","女",null,null,"計","男","女",null,"計","男","女"]
["漁太",{"$f":"C5+D5","v":157},77,80,65,157,75,82,69,"桜町3丁目",{"$f":"L5+M5","v":367},187,180,145,342,170,172,134,"美咲野4丁目",{"$f":"U5+V5","v":313},157,156,103,306,154,152,103]
["林田",39,18,21,18,40,18,22,23,"桜町4丁目",2,1,1,1,1,1,null,1,"美咲野5丁目",252,121,131,97,247,119,128,98]
["春日",141,73,68,63,141,75,66,59,"京町",134,67,67,71,156,79,77,82,"美咲野6丁目",387,185,202,139,391,186,205,139]
["中央",205,108,97,79,220,113,107,82,"漁町",1034,524,510,559,1042,536,506,564,"恵み野東1丁目",305,140,165,123,312,144,168,125]
["上山口",206,97,109,83,203,97,106,82,"福住町1丁目",747,369,378,363,744,363,381,358,"恵み野東2丁目",567,277,290,222,558,267,291,222]
["戸磯",148,68,80,71,151,68,83,75,"福住町2丁目",376,168,208,185,374,172,202,188,"恵み野東3丁目",395,190,205,166,393,195,198,164]
["恵南",745,459,286,416,763,476,287,443,"福住町3丁目",541,258,283,262,578,269,309,281,"恵み野東4丁目",386,182,204,145,541,263,278,202]
["和光町1丁目",461,221,240,216,454,220,234,220,"新町",72,35,37,27,72,33,39,29,"恵み野東5丁目",588,297,291,254,569,283,286,250]
["和光町2丁目",581,298,283,238,583,294,289,240,"本町",489,241,248,241,498,244,254,247,"恵み野東6丁目",460,229,231,182,455,225,230,180]
["和光町3丁目",495,233,262,222,501,244,257,227,"有明町1丁目",445,224,221,250,437,221,216,248,"恵み野東7丁目",567,282,285,205,572,282,290,210]
["和光町4丁目",446,217,229,203,457,227,230,205,"有明町2丁目",520,254,266,233,511,251,260,237,"恵み野西1丁目",725,328,397,319,721,325,396,321]
["和光町5丁目",863,460,403,425,879,473,406,436,"有明町3丁目",295,135,160,140,290,132,158,138,"恵み野西2丁目",245,111,134,112,232,102,130,107]
["駒場町1丁目",676,336,340,324,660,323,337,325,"有明町4丁目",302,144,158,145,312,150,162,142,"恵み野西3丁目",340,164,176,157,349,172,177,161]
["駒場町2丁目",391,190,201,158,383,183,200,157,"有明町5丁目",298,143,155,132,292,139,153,128,"恵み野西4丁目",470,221,249,203,472,223,249,207]
["駒場町3丁目",259,127,132,112,306,146,160,133,"有明町6丁目",388,196,192,193,402,202,200,204,"恵み野西5丁目",309,134,175,157,299,126,173,152]
["駒場町4丁目",365,178,187,169,375,183,192,178,"大町1丁目",213,105,108,103,201,102,99,98,"恵み野西6丁目",873,405,468,375,880,411,469,380]
["駒場町5丁目",213,110,103,99,210,107,103,100,"大町2丁目",166,90,76,92,171,91,80,93,"恵み野南1丁目",330,146,184,136,295,130,165,135]
["駒場町6丁目",285,141,144,128,265,130,135,124,"大町3丁目",258,126,132,117,251,124,127,115,"恵み野南2丁目",554,256,298,236,546,252,294,237]
["白樺町1丁目",408,205,203,178,388,194,194,168,"大町4丁目",211,104,107,104,198,98,100,101,"恵み野南3丁目",646,302,344,278,628,293,335,271]
["白樺町2丁目",318,169,149,154,329,174,155,164,"文京町1丁目",580,278,302,234,589,284,305,244,"恵み野南4丁目",750,351,399,324,744,348,396,323]
["白樺町3丁目",691,333,358,256,685,335,350,258,"文京町2丁目",471,220,251,187,490,228,262,194,"恵み野北1丁目",502,232,270,209,494,237,257,213]
["白樺町4丁目",31,21,10,16,31,21,10,16,"文京町3丁目",146,72,74,71,147,73,74,73,"恵み野北2丁目",518,234,284,218,506,229,277,218]
["黄金北1丁目",566,285,281,263,593,295,298,276,"文京町4丁目",654,327,327,272,662,332,330,278,"恵み野北3丁目",283,127,156,141,295,128,167,146]
["黄金北2丁目",552,262,290,253,554,260,294,253,"牧場",298,146,152,175,298,143,155,175,"恵み野北4丁目",314,153,161,139,327,160,167,141]
["黄金北3丁目",795,379,416,368,817,394,423,376,"盤尻",16,9,7,11,16,10,6,11,"恵み野北5丁目",338,164,174,144,332,158,174,144]
["黄金北4丁目",737,356,381,319,712,334,378,310,"桜森",0,null,null,null,0,null,null,null,"恵み野北6丁目",663,321,342,251,662,321,341,259]
["黄金中央１丁目",447,205,242,223,466,220,246,232,"中島町1丁目",653,329,324,283,623,309,314,273,"恵み野北7丁目",892,421,471,296,877,414,463,294]
["黄金中央２丁目",312,136,176,162,311,134,177,168,"中島町2丁目",499,230,269,222,490,232,258,222,"島松寿町1丁目",633,313,320,339,630,306,324,341]
["黄金中央３丁目",592,299,293,286,585,296,289,288,"中島町3丁目",211,107,104,79,212,103,109,80,"島松寿町2丁目",1036,469,567,500,1024,468,556,495]
["黄金中央４丁目",403,187,216,205,385,180,205,195,"中島町4丁目",1018,497,521,453,1012,496,516,463,"島松仲町1丁目",278,140,138,146,275,136,139,143]
["黄金中央５丁目",0,null,null,null,0,null,null,null,"中島町5丁目",469,238,231,238,459,230,229,239,"島松仲町2丁目",229,109,120,120,222,104,118,118]
["黄金南１丁目",895,439,456,342,915,446,469,345,"中島町6丁目",699,330,369,359,698,332,366,357,"島松仲町3丁目",171,82,89,84,169,78,91,81]
["黄金南２丁目",679,330,349,270,675,321,354,269,"恵央町",642,276,366,350,710,298,412,381,"島松東町1丁目",283,136,147,120,286,137,149,120]
["黄金南３丁目",777,381,396,265,820,397,423,282,"幸町1丁目",225,111,114,100,237,114,123,103,"島松東町2丁目",359,168,191,163,356,162,194,168]
["黄金南４丁目",863,451,412,287,886,461,425,301,"幸町2丁目",400,187,213,176,385,177,208,178,"島松東町3丁目",408,209,199,182,365,186,179,165]
["黄金南５丁目",212,104,108,73,227,113,114,76,"幸町3丁目",426,202,224,187,429,205,224,188,"島松東町4丁目",218,108,110,90,215,108,107,92]
["黄金南６丁目",310,159,151,102,312,159,153,103,"幸町4丁目",5,2,3,2,5,2,3,2,"島松本町1丁目",527,251,276,218,510,241,269,214]
["黄金南７丁目",795,389,406,274,816,401,415,285,"柏陽町1丁目",761,365,396,370,750,355,395,366,"島松本町2丁目",604,299,305,264,606,294,312,268]
["相生町",1802,876,926,956,1815,886,929,959,"柏陽町3丁目",1616,795,821,675,1617,804,813,670,"島松本町3丁目",778,367,411,333,749,356,393,331]
["緑町1丁目",160,83,77,97,164,82,82,100,"柏陽町4丁目",623,291,332,345,606,278,328,337,"島松本町4丁目",539,268,271,228,520,254,266,222]
["緑町2丁目",719,323,396,343,715,313,402,339,"柏木町",2683,1392,1291,1333,2625,1372,1253,1327,"島松旭町1丁目",311,147,164,124,307,146,161,124]
["住吉町1丁目",253,126,127,118,252,126,126,120,"北柏木町1丁目",773,378,395,314,796,386,410,334,"島松旭町2丁目",337,158,179,143,318,153,165,132]
["住吉町2丁目",520,245,275,274,528,245,283,280,"北柏木町2丁目",572,286,286,256,573,283,290,259,"島松旭町3丁目",344,167,177,106,329,162,167,104]
["住吉町3丁目",545,273,272,255,563,277,286,256,"北柏木町3丁目",26,14,12,12,27,15,12,13,"島松旭町4丁目",418,194,224,176,412,188,224,170]
["住吉町4丁目",397,185,212,174,402,176,226,177,"北柏木町4丁目",3,2,1,2,8,4,4,3,"西島松",694,423,271,476,701,431,270,481]
["末広町",649,315,334,312,601,285,316,294,"北柏木町5丁目",3,2,1,2,3,2,1,2,"南島松",255,113,142,136,247,104,143,133]
["栄恵町",193,101,92,120,184,97,87,116,"島松沢",15,10,5,10,13,8,5,8,"中島松",169,79,90,60,165,78,87,61]
["泉             町",602,315,287,335,599,315,284,340,"美咲野1丁目",601,288,313,198,601,286,315,199,"下島松",313,155,158,160,308,155,153,156]
["桜町1丁目",333,183,150,156,272,152,120,137,"美咲野2丁目",388,189,199,125,386,189,197,127,"穂栄",102,49,53,52,103,51,52,52]
["桜町2丁目",832,382,450,391,798,365,433,380,"美咲野3丁目",383,199,184,132,391,206,185,136,"北島",95,52,43,40,94,50,44,41]
["〈資料〉生活環境部市民課",null,null,null,null,null,null,null,null,null,null,null,null,null,null,null,null,null,"恵み野里美1丁目",9,4,5,4,5,2,3,3]
["    　　住民基本台帳法が改正され、平成24年7月より外国人住民が適用対象となった。",null,null,null,null,null,null,null,null,null,null,null,null,null,null,null,null,null,"恵み野里美2丁目",13,7,6,6,153,74,79,50]
[null,null,null,null,null,null,null,null,null,null,null,null,null,null,null,null,null,null,"合計",{"$f":"SUM(T5:T56)+SUM(K5:K54)+SUM(B5:B54)","v":68876},33648,35228,31053,68950,33610,35340,31338]

{"sheet":"年齢別人口","index":4,"n_rows":38,"n_cols":17,"rows_kept":38,"cut":false,"hidden":false,"merged":[[2,13,2,15],[0,0,0,2],[2,0,3,0],[2,1,2,3],[2,4,2,6],[2,7,2,9],[2,10,2,12]]}
["３）年齢別人口(5歳階級)"]
[null,null,null,null,null,null,null,null,null,null,null,null,null,null,null,null,"（各年9月末日）"]
["年　　　齢","22年",null,null,"23年",null,null,"24年",null,null,"25年",null,null,"26年",null,null,"年　　　齢"]
[null,"男","女","計","男","女","計","男","女","計","男","女","計","男","女","計"]
["総数",{"$f":"B8+B15+B29","v":33870},34939,68809,33833,35105,68938,33806,35320,{"$f":"SUM(H5:I5)","v":69126},33648,35228,68876,33610,35340,{"$f":"SUM(N5:O5)","v":68950},"総数"]
[null,null,null,{"$f":"\"(\"&ROUND(D5/(D$15+D$8+D$29)*100,1)&\"%)\"","v":"(100%)"},null,null,{"$f":"\"(\"&ROUND(G5/(G$15+G$8+G$29)*100,1)&\"%)\"","v":"(100%)"},null,null,"(100%)",null,null,"(100%)",null,null,"(100%)"]
["年少人口",null,null,null,null,null,null,null,null,null,null,null,null,null,null,null,"年少人口"]
["0歳～14歳",{"$f":"B10+B11+B12","v":4989},{"$f":"C10+C11+C12","v":4832},{"$f":"D10+D11+D12","v":9821},4939,4802,{"$f":"G10+G11+G12","v":9741},{"$f":"SUM(H10:H12)","v":4846},4685,9531,4759,4549,9308,{"$f":"SUM(N10:N12)","v":4713},{"$f":"SUM(O10:O12)","v":4590},{"$f":"SUM(P10:P12)","v":9303},"0歳～14歳"]
[null,null,null,{"$f":"\"(\"&ROUND(D8/(D$15+D$8+D$29)*100,1)&\"%)\"","v":"(14.3%)"},null,null,{"$f":"\"(\"&ROUND(G8/(G$15+G$8+G$29)*100,1)&\"%)\"","v":"(14.1%)"},null,"(13.8%)",{"$f":"\"(\"&ROUND(J8/(J$15+J$8+J$29)*100,1)&\"%)\"","v":"(13.8%)"},null,null,{"$f":"\"(\"&ROUND(M8/(M$15+M$8+M$29)*100,1)&\"%)\"","v":"(13.5%)"},null,null,{"$f":"\"(\"&ROUND(P8/(P$15+P$8+P$29)*100,1)&\"%)\"","v":"(13.5%)"}]
["0歳～4歳",1511,1492,{"$f":"SUM(B10:C10)","v":3003},1496,1469,{"$f":"SUM(E10:F10)","v":2965},1466,1383,{"$f":"SUM(H10:I10)","v":2849},1392,1323,{"$f":"K10+L10","v":2715},1374,1350,{"$f":"SUM(N10:O10)","v":2724},"0歳～4歳"]
["5～9",1682,1617,{"$f":"SUM(B11:C11)","v":3299},1628,1582,{"$f":"SUM(E11:F11)","v":3210},1592,1594,3186,1612,1549,{"$f":"K11+L11","v":3161},1615,1540,{"$f":"SUM(N11:O11)","v":3155},"5～9"]
["10～14",1796,1723,{"$f":"SUM(B12:C12)","v":3519},1815,1751,{"$f":"SUM(E12:F12)","v":3566},1788,1708,{"$f":"SUM(H12:I12)","v":3496},1755,1677,{"$f":"K12+L12","v":3432},1724,1700,{"$f":"SUM(N12:O12)","v":3424},"10～14"]
[]
["生産年齢人口",null,null,null,null,null,null,null,null,null,null,null,null,null,null,null,"生産年齢人口"]
["15歳～64歳",{"$f":"SUM(B17:B26)","v":22577},{"$f":"SUM(C17:C26)","v":22289},{"$f":"SUM(D17:D26)","v":44866},22405,22245,{"$f":"SUM(G17:G26)","v":44650},{"$f":"SUM(H17:H26)","v":22245},{"$f":"SUM(I17:I26)","v":22251},{"$f":"SUM(H15:I15)","v":44496},{"$f":"SUM(K17:K26)","v":21883},{"$f":"SUM(L17:L26)","v":21879},{"$f":"SUM(M17:M26)","v":43762},{"$f":"SUM(N17:N26)","v":21538},21504,43042,"15歳～64歳"]
[null,null,null,{"$f":"\"(\"&ROUND(D15/(D$15+D$8+D$29)*100,1)&\"%)\"","v":"(65.2%)"},null,null,{"$f":"\"(\"&ROUND(G15/(G$15+G$8+G$29)*100,1)&\"%)\"","v":"(64.8%)"},null,null,{"$f":"\"(\"&ROUND(J15/(J$15+J$8+J$29)*100,1)&\"%)\"","v":"(64.4%)"},null,null,{"$f":"\"(\"&ROUND(M15/(M$15+M$8+M$29)*100,1)&\"%)\"","v":"(63.5%)"},null,null,{"$f":"\"(\"&ROUND(P15/(P$15+P$8+P$29)*100,1)&\"%)\"","v":"(62.4%)"}]
["15歳～19歳",2007,1817,{"$f":"SUM(B17:C17)","v":3824},1928,1801,{"$f":"SUM(E17:F17)","v":3729},1924,1856,{"$f":"SUM(H17:I17)","v":3780},1886,1889,{"$f":"SUM(K17:L17)","v":3775},1905,1834,{"$f":"SUM(N17:O17)","v":3739},"15歳～19歳"]
["20～24",1964,1802,3766,1957,1768,3725,1955,1812,3767,1900,1771,3671,1857,1737,{"$f":"SUM(N18:O18)","v":3594},"20～24"]
["25～29",1947,1897,3844,1888,1869,3757,1808,1804,3612,1723,1724,3447,1693,1675,3368,"25～29"]
["30～34",2368,2265,4633,2254,2175,4429,2091,2089,4180,2040,1968,4008,1913,1943,3856,"30～34"]
["35～39",2591,2558,5149,2596,2576,5172,2640,2600,5240,2548,2469,5017,2465,2358,4823,"35～39"]
["40～44",2361,2308,4669,2480,2402,4882,2501,2423,4924,2542,2532,5074,2591,2567,5158,"40～44"]
["45～49",2204,2224,4428,2122,2208,4330,2176,2258,4434,2239,2296,4535,2324,2357,4681,"45～49"]
["50～54",2089,2108,4197,2095,2081,4176,2120,2113,4233,2115,2169,4284,2134,2204,4338,"50～54"]
["55～59",2440,2571,5011,2348,2490,4838,2225,2372,4597,2142,2209,4351,2105,2126,4231,"55～59"]
["60～64",2606,2739,5345,2737,2875,5612,2805,2924,5729,2748,2852,5600,2551,2703,5254,"60～64"]
[]
["老年人口",null,null,null,null,null,null,null,null,null,null,null,null,null,null,null,"老年人口"]
["65歳以上",{"$f":"SUM(B31:B37)","v":6304},7818,14122,6489,8058,14547,{"$f":"SUM(H31:H37)","v":6715},{"$f":"SUM(I31:I37)","v":8384},{"$f":"SUM(H29:I29)","v":15099},{"$f":"SUM(K30:K37)","v":7006},{"$f":"SUM(L30:L37)","v":8800},{"$f":"SUM(M31:M37)","v":15806},{"$f":"SUM(N31:N37)","v":7359},{"$f":"SUM(O30:O37)","v":9246},{"$f":"SUM(P31:P37)","v":16605},"65歳以上"]
[null,null,null,{"$f":"\"(\"&ROUND(D29/(D$15+D$8+D$29)*100,1)&\"%)\"","v":"(20.5%)"},null,null,{"$f":"\"(\"&ROUND(G29/(G$15+G$8+G$29)*100,1)&\"%)\"","v":"(21.1%)"},null,null,{"$f":"\"(\"&ROUND(J29/(J$15+J$8+J$29)*100,1)&\"%)\"","v":"(21.8%)"},null,null,{"$f":"\"(\"&\"23.0%\"&\")\"","v":"(23.0%)"},null,null,{"$f":"\"(\"&ROUND(P29/(P$15+P$8+P$29)*100,1)&\"%)\"","v":"(24.1%)"}]
["65歳～69歳",1873,2195,{"$f":"SUM(B31:C31)","v":4068},1880,2133,{"$f":"SUM(E31:F31)","v":4013},1930,2155,{"$f":"SUM(H31:I31)","v":4085},2114,2338,{"$f":"SUM(K31:L31)","v":4452},2332,2530,{"$f":"SUM(N31:O31)","v":4862},"65歳～69歳"]
["70～74",1650,1950,3600,1658,1995,3653,1676,2075,3751,1676,2086,3762,1721,2136,3857,"70～74"]
["75～79",1405,1557,2962,1444,1667,3111,1484,1758,3242,1494,1815,3309,1493,1870,{"$f":"SUM(N33:O33)","v":3363},"75～79"]
["80～84",921,1092,2013,992,1159,2151,1026,1191,2217,1065,1272,2337,1066,1338,2404,"80～84"]
["85～89",321,649,970,364,698,1062,428,755,1183,499,783,1282,576,840,1416,"85～89"]
["90～94",107,286,393,116,306,422,131,344,475,122,387,509,133,406,539,"90～94"]
["95歳以上",27,89,116,35,100,135,40,106,146,36,119,155,38,126,164,"95歳以上"]
["〈資料〉生活環境部市民課、住民基本台帳"]

{"sheet":"人口動態、外国人登録人口","index":5,"n_rows":57,"n_cols":13,"rows_kept":57,"cut":false,"hidden":false,"merged":[[0,0,0,3],[1,10,1,12],[2,0,3,0],[2,2,2,4],[2,5,2,7],[2,8,2,10],[2,11,3,11],[2,12,3,12],[43,4,43,5],[28,0,28,12],[29,0,29,8],[32,0,32,3],[33,8,33,10],[34,0,35,1],[34,2,34,4],[34,5,34,7],[34,8,34,10],[36,0,36,1],[37,0,37,1],[40,0,40,1],[41,0,41,1],[42,0,42,1],[44,2,44,4],[44,5,44,7],[44,8,44,10],[46,0,46,1],[54,0,55,14],[50,0,50,1],[51,0,51,1],[52,0,52,1],[53,0,53,3],[47,0,47,1],[44,0,45,1]]}
["４）人口動態(届出数)"]
[null,null,null,null,null,null,null,null,null,null,"(各年･月中)"]
["年　月","増　減","自 然 動 態",null,null,"社 会 動 態",null,null,"職権による",null,null,"婚　姻","離　婚"]
[null,"人　口","出　生","死　亡","増　減","転　入","転　出","増　減","増　加","減　少","増　減"]
["16年",235,613,404,209,3609,3620,"△ 11",51,14,37,726,247]
["17年",415,578,438,140,3604,3471,291,30,46,"△ 16",673,183]
["18年",396,568,434,134,3718,3463,247,29,14,15,777,226]
["19年",473,618,490,128,3575,3257,318,35,8,27,740,225]
["20年",167,576,496,80,3481,3417,64,32,9,23,813,230]
["21年","△ 31",552,501,51,3178,3278,"△ 100",28,10,18,773,227]
["22年",143,551,499,52,3046,2976,70,23,2,21,843,245]
["23年",64,523,500,23,3012,2996,16,29,4,25,744,213]
["24年",242,508,590,-82,2945,2871,74,264,14,250,775,224]
["25年",-294,510,583,-73,2956,3159,-203,17,35,-18,744,203]
["26年",{"$f":"SUM(B16:B27)","v":63},{"$f":"SUM(C16:C27)","v":498},607,-109,3194,3014,180,19,27,-8,698,205]
["1月",-16,48,69,-21,131,128,3,2,0,2,44,16]
["2月",0,56,42,14,129,144,-15,1,0,1,59,12]
["3月",-126,30,52,-22,742,847,-105,1,0,1,77,15]
["4月",98,39,47,-8,529,419,110,3,7,-4,56,20]
["5月",-40,39,40,-1,164,203,-39,3,3,0,53,20]
["6月",-29,35,47,-12,149,159,-10,0,7,-7,49,17]
["7月",102,50,53,-3,274,165,109,1,5,-4,67,24]
["8月",61,49,47,2,262,203,59,1,1,0,60,19]
["9月",7,44,50,-6,226,215,11,2,0,2,50,10]
["10月",-18,37,66,-29,217,206,11,2,2,0,53,21]
["11月",-3,29,47,-18,188,174,14,2,1,1,67,19]
["12月",27,42,47,-5,183,151,32,1,1,0,63,12]
["〈資料〉生活環境部市民課　　　"]
["    注) 婚姻､離婚の件数は､恵庭市で受理した分と他市町村で受理して恵庭に送付された分との合\n        算である。"]
[]
[]
[]
["５）外国人住民の人口"]
[null,null,null,null,null,null,null,null,"(各年度３月)"]
["区　　　分",null,"平成21年度",null,null,"平成22年度",null,null,"平成23年度"]
[null,null,"計","男","女","計","男","女","計","男","女"]
["韓国、朝鮮",null,69,29,40,67,32,35,{"$f":"SUM(J37:K37)","v":55},27,28]
["中国",null,108,42,66,106,37,69,{"$f":"SUM(J38:K38)","v":139},43,96]
["フィリピン",null,11,1,10,15,3,12,13,3,10]
["アメリカ",null,11,10,1,10,9,1,9,8,1]
["ロシア",null,{"$f":"D41+E41","v":8},4,4,7,3,4,4,3,1]
["その他",null,26,12,14,26,11,15,29,12,17]
["合計",null,{"$f":"SUM(C37:C42)","v":233},98,135,231,95,136,249,96,153]
[]
["区　　　分",null,"平成24年度",null,null,"平成25年度",null,null,"平成26年度"]
[null,null,"計","男","女","計","男","女","計","男","女"]
["韓国、朝鮮",null,52,27,25,47,24,23,47,24,23]
["中国",null,120,41,79,135,48,87,101,41,60]
["フィリピン",null,11,2,9,13,2,11,14,3,11]
["アメリカ",null,5,4,1,4,3,1,6,6,0]
["ロシア",null,3,2,1,1,0,1,1,0,1]
["その他",null,29,12,17,35,15,20,38,21,17]
["合計",null,{"$f":"SUM(C47:C52)","v":220},88,132,235,92,143,207,95,112]
["〈資料〉生活環境部市民課　　　"]
["　　注）平成２４年７月９日から外国人の方も住民基本台帳法の対象となり、\n　　　　平成２４年７月末からの「町名別人口調べ」が外国人住民を含む集計となりました。"]
[]
[null,"  ＊年度末集計に変更"]

{"sheet":"社会動態（道内）","index":6,"n_rows":56,"n_cols":12,"rows_kept":56,"cut":false,"hidden":false,"merged":[[2,8,2,9],[2,10,2,11],[4,0,4,1],[6,0,6,1],[2,0,3,1],[2,2,2,3],[2,4,2,5],[2,6,2,7],[8,0,8,1],[19,0,19,1],[20,0,20,1],[21,0,21,1],[34,0,34,1],[29,0,29,1],[22,0,22,1],[23,0,23,1],[24,0,24,1],[25,0,25,1],[26,0,26,1],[27,0,27,1],[28,0,28,1],[35,0,35,1],[36,0,36,1],[37,0,37,1],[30,0,30,1],[31,0,31,1],[32,0,32,1],[33,0,33,1],[42,0,42,1],[43,0,43,1],[44,0,44,1],[45,0,45,1],[38,0,38,1],[39,0,39,1],[40,0,40,1],[41,0,41,1],[54,10,54,11],[50,0,50,1],[51,0,51,1],[53,0,53,1],[46,0,46,1],[47,0,47,1],[48,0,48,1],[49,0,49,1]]}
["６）社会動態（道内）"]
[null,null,null,null,null,null,null,null,null,null,null,"（各年中）"]
["区　分",null,"22 年",null,"23 年",null,"24 年",null,"25 年",null,"26年"]
[null,null,"転　入","転　出","転　入","転　出","転　入","転　出","転　入","転　出","転　入","転　出"]
["全道計",null,2398,2220,2404,2276,2235,2083,2242,2308,2536,2186]
[]
["市部計",null,1955,1913,1976,2003,1886,1798,1900,2057,2137,1897]
[]
["札幌",null,663,846,754,831,656,856,694,988,804,906]
[null,"中央区",84,137,100,99,87,102,88,148,79,118]
[null,"北区",68,64,59,63,64,71,60,100,76,89]
[null,"東区",67,84,79,110,66,97,69,114,78,97]
[null,"白石区",85,126,115,124,88,145,104,144,106,121]
[null,"豊平区",106,107,114,114,94,122,96,130,86,116]
[null,"南区",62,79,73,73,64,74,82,77,175,96]
[null,"西区",59,58,62,83,48,46,57,67,45,62]
[null,"厚別区",67,89,67,72,47,85,67,92,68,96]
[null,"手稲区",23,28,39,37,28,37,18,40,23,43]
[null,"清田区",42,74,46,56,70,77,53,76,68,68]
["函館",null,57,53,46,46,43,39,64,62,55,40]
["小樽",null,15,19,33,18,23,17,31,25,26,16]
["旭川",null,97,49,85,87,88,66,58,62,97,67]
["室蘭",null,26,26,28,27,29,20,28,28,34,19]
["釧路",null,44,22,44,22,29,17,46,27,43,21]
["帯広",null,48,64,52,33,59,53,55,38,40,41]
["北見",null,20,24,18,14,27,13,22,29,27,23]
["夕張",null,11,3,4,4,11,3,10,0,5,5]
["岩見沢",null,47,30,32,33,27,36,48,26,43,34]
["網走",null,20,9,11,13,8,10,5,4,19,6]
["留萌",null,5,2,9,6,7,10,11,6,26,7]
["苫小牧",null,110,101,96,108,98,97,94,109,121,87]
["稚内",null,10,9,9,8,18,6,15,6,8,8]
["美唄",null,8,4,7,12,10,8,14,12,17,12]
["芦別",null,3,1,0,0,3,1,6,1,2,0]
["江別",null,48,72,70,54,63,52,54,28,43,50]
["赤平",null,5,2,6,1,2,1,2,0,4,1]
["紋別",null,10,5,6,3,7,2,2,3,8,5]
["士別",null,7,5,5,4,3,5,5,2,8,2]
["名寄",null,23,18,21,19,26,30,30,20,31,30]
["三笠",null,4,5,4,3,3,3,3,4,1,1]
["根室",null,20,0,7,4,9,2,3,5,11,4]
["千歳",null,441,382,407,445,444,286,419,409,486,362]
["滝川",null,11,8,12,16,23,13,10,9,20,12]
["砂川",null,7,9,10,6,3,3,5,5,5,2]
["歌志内",null,2,0,0,3,2,1,0,0,1,0]
["深川",null,4,2,8,2,3,1,3,4,5,4]
["富良野",null,1,2,11,9,7,7,15,4,2,4]
["登別",null,42,18,48,32,30,19,32,25,33,24]
["伊達",null,12,12,8,10,11,9,14,16,8,12]
["北広島",null,110,96,82,110,88,85,74,82,90,75]
["石狩",null,16,8,22,11,14,23,15,10,11,8]
["北斗",null,8,7,20,8,12,4,13,8,3,9]
[]
["郡部計",null,449,293,443,307,428,273,342,251,399,289]
["〈資料〉北海道統計",null,null,null,null,null,null,null,null,null,"（単位：人）"]
["　　注）北海道による住民基本台帳移動報告については「外国人住民」を含めていない。"]

{"sheet":"社会動態（道外）","index":7,"n_rows":26,"n_cols":11,"rows_kept":26,"cut":false,"hidden":false,"merged":[[23,0,24,10],[2,9,2,10],[1,9,1,10],[2,5,2,6],[2,7,2,8],[2,1,2,2],[2,3,2,4],[21,9,21,10],[2,0,3,0]]}
["７）社会動態（道外）"]
[null,null,null,null,null,null,null,null,null,"（各年中）"]
["区　　分","22 年",null,"23 年",null,"24 年",null,"25 年",null,"26 年"]
[null,"転　入","転　出","転　入","転　出","転　入","転　出","転　入","転　出","転　入","転　出"]
["総数",{"$f":"B7+B8+B9","v":3042},{"$f":"C7+C8+C9","v":2987},3011,2975,2920,2803,{"$f":"SUM(H7:H9)","v":2872},{"$f":"SUM(I7:I9)","v":3095},3121,2946]
[]
["道内",2398,2220,2404,2276,2235,2083,2242,2308,2536,2186]
["道外",598,729,572,649,641,694,579,731,536,701]
["国外",46,38,35,50,44,26,51,56,49,59]
[]
["東北",100,81,99,70,80,86,81,104,90,97]
["関東",296,382,264,385,346,358,260,391,257,346]
["（うち東京都）",-106,-127,"(71)","(125)",-103,-155,-76,-132,-93,-106]
["（うち神奈川県）",-63,-73,"(71)","(90)",-67,-79,-58,-101,-71,-100]
["北陸",8,13,16,11,8,12,13,16,9,8]
["中部",82,98,79,44,77,73,69,73,91,106]
["近畿",48,83,42,63,71,82,71,73,42,63]
["中国",11,17,10,18,13,10,16,14,9,18]
["四国",5,2,7,4,3,7,9,5,6,8]
["九州",39,46,44,46,34,54,45,45,24,39]
["沖縄",9,7,11,8,9,12,15,10,8,16]
["〈資料〉北海道統計",null,null,null,null,null,null,null,null,"（単位：人）"]
["　　注）住所設定（従前の住所無）により転入したものを除く。"]
["　　注）北陸は新潟･富山･石川･福井の４県、中部は山梨･長野･岐阜･静岡･愛知の５県、近畿は滋賀・京都・\n　　　　大阪･兵庫･奈良･和歌山･三重の２府５県として集計した｡"]
[]
["　　注）北海道による住民基本台帳移動報告については「外国人住民」を含めていない。"]

{"sheet":"町内別年齢別人口①","index":8,"n_rows":54,"n_cols":24,"rows_kept":54,"cut":false,"hidden":false,"merged":[[0,0,0,4],[53,0,53,3],[54,1,54,2]]}
["８）町内別年齢別人口(５歳階級)"]
[null,null,null,null,null,null,null,null,null,null,null,null,null,null,null,null,null,null,null,null,null,null,null,"平成26年9月末現在"]
["町　　　名","総数","0歳～　　4歳","5歳～　　9歳","10歳～　　14歳","15歳～　19歳","20歳～　24歳","25歳～　29歳","30歳～　34歳","35歳～　39歳","40歳～　44歳","45歳～　49歳","50歳～　54歳","55歳～59歳","60歳～64歳","65歳～69歳","70歳～74歳","75歳～79歳","80歳～84歳","85歳～89歳","90歳～94歳","95歳～99歳","100歳以上","町　　　名"]
["漁太",157,5,1,3,1,5,4,2,11,6,13,6,18,18,7,22,18,8,4,4,1,0,"漁太"]
["林田",40,1,0,0,0,1,0,0,2,2,1,2,4,6,4,5,3,6,2,0,1,0,"林田"]
["春日",141,3,5,2,2,6,6,7,3,6,8,13,9,9,16,13,9,12,8,3,1,0,"春日"]
["中央",220,12,13,8,7,3,10,18,10,6,12,9,23,25,14,11,16,12,8,2,1,0,"中央"]
["上山口",203,5,4,5,10,5,7,10,10,10,13,7,19,21,21,11,19,11,9,2,4,0,"上山口"]
["戸磯",151,4,3,1,5,6,7,14,5,2,10,11,14,21,14,5,8,8,6,5,2,0,"戸磯"]
["恵南",763,19,16,17,61,115,60,42,51,46,38,50,47,60,47,38,30,11,12,2,1,0,"恵南"]
["和光町１ 丁目",454,20,20,20,22,24,11,22,37,45,23,25,22,28,45,31,31,18,9,1,0,0,"和光町１ 丁目"]
["和光町２ 丁目",583,26,33,44,41,24,19,35,33,68,48,44,29,36,38,24,17,14,6,4,0,0,"和光町２ 丁目"]
["和光町３ 丁目",501,22,36,22,28,31,20,26,48,33,31,22,29,31,29,38,22,16,13,4,0,0,"和光町３ 丁目"]
["和光町４ 丁目",457,23,25,26,23,30,23,28,32,39,36,26,15,33,33,33,13,11,5,2,1,0,"和光町４ 丁目"]
["和光町５ 丁目",879,67,45,50,63,77,55,62,92,81,58,48,22,38,37,25,22,22,11,4,0,0,"和光町５ 丁目"]
["駒場町１ 丁目",660,25,19,23,35,45,34,33,50,51,57,54,41,46,42,37,27,22,14,4,1,0,"駒場町１ 丁目"]
["駒場町２ 丁目",383,29,26,13,15,8,21,32,34,25,25,15,18,26,20,32,21,11,8,2,2,0,"駒場町２ 丁目"]
["駒場町３ 丁目",306,15,8,7,15,19,19,18,14,20,23,26,27,25,19,11,24,11,3,2,0,0,"駒場町３ 丁目"]
["駒場町４ 丁目",375,14,12,13,17,13,25,13,17,32,22,19,31,35,35,32,21,10,13,1,0,0,"駒場町４ 丁目"]
["駒場町５ 丁目",210,8,8,10,10,7,2,12,13,12,12,15,11,21,21,21,11,9,4,2,1,0,"駒場町５ 丁目"]
["駒場町６ 丁目",265,11,13,13,12,10,12,11,17,23,20,11,14,15,24,23,18,8,5,3,2,0,"駒場町６ 丁目"]
["白樺町１ 丁目",388,12,20,17,29,21,18,30,29,24,34,48,31,18,12,12,20,4,5,3,1,0,"白樺町１ 丁目"]
["白樺町２ 丁目",329,4,4,10,26,16,10,9,21,22,25,17,34,32,32,35,10,13,7,1,1,0,"白樺町２ 丁目"]
["白樺町３ 丁目",685,19,35,55,63,36,22,18,49,53,65,80,46,48,33,24,27,8,2,2,0,0,"白樺町３ 丁目"]
["白樺町４ 丁目",31,2,2,4,2,1,1,4,2,4,2,6,1,0,0,0,0,0,0,0,0,0,"白樺町４ 丁目"]
["黄金北１丁目",593,33,31,32,32,37,45,38,53,42,37,42,43,32,33,22,19,13,5,4,0,0,"黄金北１丁目"]
["黄金北２丁目",554,19,22,36,39,40,19,31,29,53,40,35,29,36,31,33,21,18,19,4,0,0,"黄金北２丁目"]
["黄金北３丁目",817,22,32,36,58,60,58,39,51,64,51,47,60,62,53,54,36,18,12,3,1,0,"黄金北３丁目"]
["黄金北４丁目",712,31,29,34,45,60,44,41,61,46,48,67,54,62,28,26,15,9,8,3,1,0,"黄金北４丁目"]
["黄金中央１ 丁目",466,30,27,19,16,36,29,47,44,45,26,14,16,17,27,10,24,24,10,4,1,0,"黄金中央１ 丁目"]
["黄金中央２ 丁目",311,8,14,9,26,44,19,21,21,24,15,17,15,19,11,17,16,8,7,0,0,0,"黄金中央２ 丁目"]
["黄金中央３ 丁目",585,32,34,41,45,54,35,58,58,62,44,14,7,31,27,22,7,8,6,0,0,0,"黄金中央３ 丁目"]
["黄金中央４ 丁目",385,6,12,17,20,36,34,21,25,29,19,34,35,44,22,7,6,7,8,3,0,0,"黄金中央４ 丁目"]
["黄金中央５ 丁目",0,0,0,0,0,0,0,0,0,0,0,0,0,0,0,0,0,0,0,0,0,0,"黄金中央５ 丁目"]
["黄金南１丁目",915,82,107,61,25,20,28,75,148,107,51,35,41,32,36,21,19,18,8,1,0,0,"黄金南１丁目"]
["黄金南２丁目",675,37,46,52,37,27,22,28,62,69,42,34,38,41,35,31,26,19,19,7,3,0,"黄金南２丁目"]
["黄金南３丁目",820,44,82,91,67,30,20,41,91,106,83,59,26,25,10,16,11,11,6,1,0,0,"黄金南３丁目"]
["黄金南４丁目",886,52,96,102,63,23,14,53,112,136,67,48,21,25,21,20,16,9,3,5,0,0,"黄金南４丁目"]
["黄金南５丁目",227,22,35,19,6,5,8,12,38,29,14,7,6,8,10,6,1,1,0,0,0,0,"黄金南５丁目"]
["黄金南６丁目",312,21,30,46,20,3,7,22,40,51,32,10,1,7,6,11,5,0,0,0,0,0,"黄金南６丁目"]
["黄金南７丁目",816,56,109,96,44,19,23,67,108,106,83,24,19,29,14,12,2,0,3,2,0,0,"黄金南７丁目"]
["相生町",1815,72,57,72,61,139,138,133,124,122,147,133,104,138,100,96,85,49,30,11,4,0,"相生町"]
["緑町1丁目",164,9,5,4,8,13,14,17,13,13,11,8,6,7,7,9,12,3,2,3,0,0,"緑町1丁目"]
["緑町2丁目",715,28,26,37,39,48,25,39,43,59,47,48,34,48,57,51,49,23,10,4,0,0,"緑町2丁目"]
["住吉町１ 丁目",252,13,9,6,11,16,18,14,17,10,19,17,15,18,10,16,21,15,4,2,1,0,"住吉町１ 丁目"]
["住吉町２ 丁目",528,23,27,19,19,33,35,42,46,37,40,28,27,31,38,24,28,22,4,4,1,0,"住吉町２ 丁目"]
["住吉町３ 丁目",563,40,31,22,27,19,35,61,62,50,31,30,23,44,32,17,19,11,7,2,0,0,"住吉町３ 丁目"]
["住吉町４ 丁目",402,22,22,13,24,19,31,33,33,24,12,22,26,36,18,29,19,10,9,0,0,0,"住吉町４ 丁目"]
["末広町",601,26,36,29,19,25,41,49,46,42,36,46,36,27,33,26,34,29,15,4,2,0,"末広町"]
["栄恵町",184,7,3,1,6,9,17,5,8,8,14,16,18,11,17,14,13,12,3,2,0,0,"栄恵町"]
["泉町",599,15,16,16,24,43,45,46,52,50,48,41,28,35,41,31,33,21,10,4,0,0,"泉町"]
["桜町１ 丁目",272,14,20,8,8,12,15,25,24,22,24,17,14,20,13,4,17,11,3,1,0,0,"桜町１ 丁目"]
["桜町２ 丁目",798,28,32,56,55,37,42,45,67,58,43,45,39,47,41,57,48,34,18,5,0,1,"桜町２ 丁目"]
["〈資料〉生活環境部市民課"]

{"sheet":"町内別年齢別人口②","index":9,"n_rows":54,"n_cols":24,"rows_kept":54,"cut":false,"hidden":false,"merged":[[53,0,53,3],[54,1,54,2]]}
[null,null,null,null,null,null,null,null,null,null,null,null,null,null,null,null,null,null,null,null,null,null,null,"平成26年9月末現在"]
["町　　　名","総数","0歳～　　4歳","5歳～　　9歳","10歳～　　14歳","15歳～　19歳","20歳～　24歳","25歳～　29歳","30歳～　34歳","35歳～　39歳","40歳～　44歳","45歳～　49歳","50歳～　54歳","55歳～59歳","60歳～64歳","65歳～69歳","70歳～74歳","75歳～79歳","80歳～84歳","85歳～89歳","90歳～94歳","95歳～99歳","100歳以上","町　　　名"]
["桜町３ 丁目",342,25,16,16,12,13,15,20,28,29,26,21,14,15,17,26,34,9,5,1,0,0,"桜町３ 丁目"]
["桜町４ 丁目",1,0,0,0,0,0,0,0,0,0,0,0,1,0,0,0,0,0,0,0,0,0,"桜町４ 丁目"]
["京町",156,9,2,4,5,7,24,8,22,15,4,8,10,8,12,6,5,4,3,0,0,0,"京町"]
["漁町",1042,52,51,31,22,49,77,84,103,84,52,48,51,67,86,70,48,42,15,8,1,1,"漁町"]
["福住町１ 丁目",744,49,45,29,27,24,45,63,52,57,43,31,30,40,44,39,58,46,15,6,1,0,"福住町１ 丁目"]
["福住町２ 丁目",374,12,24,27,9,10,20,25,32,28,21,24,19,14,27,22,19,26,10,2,3,0,"福住町２ 丁目"]
["福住町３ 丁目",578,30,27,12,33,22,38,36,40,35,47,29,37,33,32,41,35,29,13,8,1,0,"福住町３ 丁目"]
["新町",72,0,3,4,7,1,1,2,7,7,6,7,4,6,6,1,3,2,3,2,0,0,"新町"]
["本町",498,12,22,21,34,15,22,37,33,32,36,31,34,37,37,29,32,21,8,3,2,0,"本町"]
["有明町１丁目",437,17,14,14,14,23,19,18,37,31,35,40,25,24,31,28,42,17,6,0,2,0,"有明町１丁目"]
["有明町２ 丁目",511,16,28,28,31,21,21,19,36,45,35,27,19,48,38,35,38,12,9,4,1,0,"有明町２ 丁目"]
["有明町３ 丁目",290,9,14,10,13,6,12,8,12,26,18,7,15,26,30,33,29,12,8,2,0,0,"有明町３ 丁目"]
["有明町４ 丁目",312,16,19,15,8,14,18,17,19,28,19,15,13,25,28,23,16,14,1,4,0,0,"有明町４ 丁目"]
["有明町５ 丁目",292,17,17,19,16,12,13,18,33,21,23,13,9,19,15,18,11,10,5,3,0,0,"有明町５ 丁目"]
["有明町６ 丁目",402,11,12,10,12,20,21,25,26,32,29,24,34,28,26,28,32,24,6,2,0,0,"有明町６ 丁目"]
["大町１ 丁目",201,7,11,14,7,7,6,16,15,19,5,10,9,15,20,20,10,6,3,0,1,0,"大町１ 丁目"]
["大町２ 丁目",171,3,10,7,6,2,8,7,11,11,13,15,8,12,6,19,18,7,8,0,0,0,"大町２ 丁目"]
["大町３ 丁目",251,15,12,4,15,17,11,18,20,21,12,12,17,16,17,19,9,7,7,2,0,0,"大町３ 丁目"]
["大町４ 丁目",198,9,4,11,8,6,13,10,10,21,7,17,12,13,14,13,9,9,6,5,1,0,"大町４ 丁目"]
["文京町１ 丁目",589,20,31,33,37,24,21,20,35,43,43,41,29,57,39,35,36,22,12,8,3,0,"文京町１ 丁目"]
["文京町２ 丁目",490,22,29,29,39,23,28,24,32,45,52,30,19,31,30,24,16,11,4,1,1,0,"文京町２ 丁目"]
["文京町３ 丁目",147,8,11,16,6,5,6,10,15,9,14,9,3,9,6,10,4,2,3,1,0,0,"文京町３ 丁目"]
["文京町４ 丁目",662,22,30,46,46,28,24,38,43,52,56,49,33,53,45,25,32,18,16,4,2,0,"文京町４ 丁目"]
["牧場",298,8,6,8,11,9,13,9,22,21,22,22,15,31,26,21,27,11,9,6,1,0,"牧場"]
["盤尻",16,0,1,1,0,1,0,1,1,1,1,0,2,1,3,0,3,0,0,0,0,0,"盤尻"]
["桜森",0,0,0,0,0,0,0,0,0,0,0,0,0,0,0,0,0,0,0,0,0,0,"桜森"]
["中島町１ 丁目",623,35,28,30,46,29,38,49,41,60,50,39,26,36,33,36,16,19,8,2,2,0,"中島町１ 丁目"]
["中島町２ 丁目",490,12,19,17,35,32,31,26,22,20,34,28,52,54,43,25,12,14,11,3,0,0,"中島町２ 丁目"]
["中島町３ 丁目",212,11,16,3,13,17,8,17,10,19,16,16,18,16,12,9,5,2,4,0,0,0,"中島町３ 丁目"]
["中島町４ 丁目",1012,28,51,44,51,89,58,61,60,62,68,62,110,109,71,35,21,18,9,5,0,0,"中島町４ 丁目"]
["中島町５ 丁目",459,23,30,25,31,33,46,36,46,36,28,22,26,18,17,21,11,7,2,0,1,0,"中島町５ 丁目"]
["中島町６ 丁目",698,36,22,19,38,36,63,55,54,39,45,25,43,62,52,26,20,33,21,9,0,0,"中島町６ 丁目"]
["恵央町",710,42,20,21,31,32,36,33,42,37,39,41,35,55,54,66,53,37,28,7,1,0,"恵央町"]
["幸町1丁目",237,10,7,12,9,14,5,4,15,15,17,20,11,8,18,29,20,13,8,1,1,0,"幸町1丁目"]
["幸町2丁目",385,6,11,13,25,21,16,15,16,37,30,31,23,22,24,24,39,21,7,4,0,0,"幸町2丁目"]
["幸町3丁目",429,9,8,16,25,26,23,22,19,21,28,31,35,38,36,31,35,15,8,2,0,1,"幸町3丁目"]
["幸町4丁目",5,0,0,0,0,0,0,0,0,1,0,0,0,0,3,1,0,0,0,0,0,0,"幸町4丁目"]
["柏陽町１ 丁目",750,17,22,28,28,24,18,25,42,41,41,30,28,86,97,64,68,46,32,11,2,0,"柏陽町１ 丁目"]
["柏陽町３ 丁目",1617,147,132,69,50,50,100,171,177,111,77,77,84,127,109,50,47,22,9,8,0,0,"柏陽町３ 丁目"]
["柏陽町４ 丁目",606,7,11,14,27,26,19,9,34,30,28,25,30,69,79,65,60,44,19,6,4,0,"柏陽町４ 丁目"]
["柏木町",2625,113,105,91,119,186,179,158,184,228,152,151,153,186,148,146,127,89,60,33,14,3,"柏木町"]
["北柏木町１ 丁目",796,49,25,28,51,60,35,41,52,48,48,65,75,69,42,35,23,19,22,6,3,0,"北柏木町１ 丁目"]
["北柏木町２ 丁目",573,12,16,18,32,38,20,28,38,29,49,29,28,63,69,41,29,13,12,7,2,0,"北柏木町２ 丁目"]
["北柏木町３ 丁目",27,0,2,0,0,0,0,1,1,3,0,1,3,4,3,3,3,1,2,0,0,0,"北柏木町３ 丁目"]
["北柏木町４ 丁目",8,1,2,0,0,0,0,0,2,1,0,0,0,0,1,1,0,0,0,0,0,0,"北柏木町４ 丁目"]
["北柏木町５ 丁目",3,0,0,0,0,0,0,0,0,0,0,0,0,0,0,1,1,0,0,0,0,1,"北柏木町５ 丁目"]
["島松沢",13,0,0,0,0,1,0,1,0,0,0,1,2,1,2,1,2,2,0,0,0,0,"島松沢"]
["美咲野１ 丁目",601,15,24,46,80,48,22,12,30,70,98,66,36,11,19,11,4,8,1,0,0,0,"美咲野１ 丁目"]
["美咲野２ 丁目",386,7,20,58,53,15,3,9,27,53,64,23,14,10,10,5,5,3,5,0,2,0,"美咲野２ 丁目"]
["美咲野３ 丁目",391,12,13,30,54,16,18,20,30,37,57,49,20,7,6,4,10,5,1,1,1,0,"美咲野３ 丁目"]
["美咲野４ 丁目",306,5,20,39,43,17,2,7,17,47,42,24,13,3,7,3,4,8,4,1,0,0,"美咲野４ 丁目"]
["〈資料〉生活環境部市民課"]

{"sheet":"町内別年齢別人口③","index":10,"n_rows":56,"n_cols":24,"rows_kept":56,"cut":false,"hidden":false,"merged":[[55,0,55,2]]}
[]
[null,null,null,null,null,null,null,null,null,null,null,null,null,null,null,null,null,null,null,null,null,null,null,"平成26年9月末現在"]
["町　　　名","総数","0歳～　　4歳","5歳～　　9歳","10歳～　　14歳","15歳～　19歳","20歳～　24歳","25歳～　29歳","30歳～　34歳","35歳～　39歳","40歳～　44歳","45歳～　49歳","50歳～　54歳","55歳～59歳","60歳～64歳","65歳～69歳","70歳～74歳","75歳～79歳","80歳～84歳","85歳～89歳","90歳～94歳","95歳～99歳","100歳以上","町　　　名"]
["美咲野５ 丁目",{"$f":"SUM(C4:W4)","v":247},7,13,29,21,4,3,4,20,22,20,15,15,20,8,12,18,9,5,1,1,0,"美咲野５ 丁目"]
["美咲野６ 丁目",{"$f":"SUM(C5:W5)","v":391},17,40,45,28,8,7,9,30,64,42,17,20,7,14,19,11,5,2,6,0,0,"美咲野６ 丁目"]
["恵み野東１ 丁目",{"$f":"SUM(C6:W6)","v":312},14,13,10,14,9,13,21,7,12,10,20,33,43,40,14,15,12,10,1,1,0,"恵み野東１ 丁目"]
["恵み野東２ 丁目",{"$f":"SUM(C7:W7)","v":558},13,24,25,34,26,22,30,23,38,23,43,53,74,52,23,17,20,12,6,0,0,"恵み野東２ 丁目"]
["恵み野東３ 丁目",393,11,12,18,19,16,15,19,20,22,23,23,42,46,39,16,27,15,5,4,1,0,"恵み野東３ 丁目"]
["恵み野東４ 丁目",541,51,30,24,16,18,41,51,47,30,21,37,43,59,22,18,14,11,3,5,0,0,"恵み野東４ 丁目"]
["恵み野東５ 丁目",569,17,22,31,23,18,21,28,39,35,34,40,72,66,52,23,20,19,6,1,2,0,"恵み野東５ 丁目"]
["恵み野東６ 丁目",455,5,20,18,22,18,19,23,27,18,29,35,57,58,36,26,15,20,5,2,1,1,"恵み野東６ 丁目"]
["恵み野東７ 丁目",572,18,15,26,57,54,20,18,28,27,49,87,52,42,24,17,19,7,5,3,4,0,"恵み野東７ 丁目"]
["恵み野西１ 丁目",{"$f":"SUM(C13:W13)","v":721},16,35,23,22,30,30,29,39,38,39,28,44,66,92,51,43,48,34,11,1,2,"恵み野西１ 丁目"]
["恵み野西２ 丁目",{"$f":"SUM(C14:W14)","v":232},6,4,4,20,8,6,16,8,18,13,12,18,20,25,11,16,13,10,3,1,0,"恵み野西２ 丁目"]
["恵み野西３ 丁目",{"$f":"SUM(C15:W15)","v":349},4,4,10,8,8,14,16,11,12,16,16,26,44,48,35,19,24,21,12,1,0,"恵み野西３ 丁目"]
["恵み野西４ 丁目",472,7,15,20,16,9,14,19,26,22,23,19,29,67,83,40,29,15,16,2,1,0,"恵み野西４ 丁目"]
["恵み野西５ 丁目",299,5,10,14,7,4,11,10,9,11,13,16,20,43,27,20,14,21,18,23,2,1,"恵み野西５ 丁目"]
["恵み野西６ 丁目",880,11,20,36,55,41,36,43,24,38,40,52,81,107,100,54,54,45,29,8,5,1,"恵み野西６ 丁目"]
["恵み野南１ 丁目",295,8,23,27,22,11,10,12,24,27,24,19,5,10,19,27,15,9,2,1,0,0,"恵み野南１ 丁目"]
["恵み野南２ 丁目",546,10,17,23,29,17,15,23,31,37,21,23,27,56,85,74,29,13,12,3,1,0,"恵み野南２ 丁目"]
["恵み野南３ 丁目",{"$f":"SUM(C21:W21)","v":628},7,14,26,24,19,13,22,43,42,26,21,43,90,84,58,38,27,18,10,2,1,"恵み野南３ 丁目"]
["恵み野南４ 丁目",{"$f":"SUM(C22:W22)","v":744},10,28,46,25,17,22,26,48,35,31,43,56,93,100,54,37,35,24,10,3,1,"恵み野南４ 丁目"]
["恵み野北１ 丁目",{"$f":"SUM(C23:W23)","v":494},7,10,14,25,17,22,20,13,16,23,37,57,68,58,32,29,25,15,5,1,0,"恵み野北１ 丁目"]
["恵み野北２ 丁目",506,12,14,19,14,20,24,24,21,16,23,41,56,61,54,25,28,35,12,7,0,0,"恵み野北２ 丁目"]
["恵み野北３ 丁目",295,6,9,12,18,22,14,11,16,11,10,8,28,43,38,15,11,12,8,2,1,0,"恵み野北３ 丁目"]
["恵み野北４ 丁目",327,9,13,16,19,19,14,14,15,18,24,11,40,39,30,19,12,7,5,2,1,0,"恵み野北４ 丁目"]
["恵み野北５ 丁目",332,10,11,12,11,20,11,17,12,16,15,20,31,42,43,24,12,17,4,2,1,1,"恵み野北５ 丁目"]
["恵み野北６ 丁目",662,20,30,45,63,67,30,17,36,55,75,57,49,46,20,14,20,9,6,3,0,0,"恵み野北６ 丁目"]
["恵み野北７ 丁目",{"$f":"SUM(C29:W29)","v":877},13,40,76,91,78,27,23,34,60,107,115,87,42,28,22,9,11,10,3,1,0,"恵み野北７ 丁目"]
["恵み野里美１丁目",{"$f":"SUM(C30:W30)","v":5},0,0,0,0,0,0,0,0,0,0,0,1,0,1,2,0,0,0,0,1,0,"恵み野里美１丁目"]
["恵み野里美２丁目",{"$f":"SUM(C31:W31)","v":153},39,11,4,2,1,26,27,17,8,5,1,2,5,3,0,0,0,2,0,0,0,"恵み野里美２丁目"]
["島松寿町１ 丁目",630,12,17,17,22,24,23,33,32,31,54,31,37,52,56,45,66,39,33,3,3,0,"島松寿町１ 丁目"]
["島松寿町２ 丁目",1024,27,24,48,58,31,42,36,56,65,68,66,63,69,93,103,81,59,22,11,1,1,"島松寿町２ 丁目"]
["島松仲町１ 丁目",275,7,5,11,14,11,10,15,17,17,7,24,21,27,23,13,15,16,17,5,0,0,"島松仲町１ 丁目"]
["島松仲町２ 丁目",222,6,1,4,9,8,6,7,6,8,16,23,13,15,18,19,26,25,8,2,1,1,"島松仲町２ 丁目"]
["島松仲町３ 丁目",169,3,4,6,8,9,4,9,5,14,13,12,10,11,12,13,17,14,4,1,0,0,"島松仲町３ 丁目"]
["島松東町１ 丁目",{"$f":"SUM(C37:W37)","v":286},10,7,12,12,12,14,8,16,17,23,17,16,24,17,20,25,18,9,7,1,1,"島松東町１ 丁目"]
["島松東町２ 丁目",356,9,7,12,11,13,17,15,14,18,22,21,28,39,36,35,26,16,11,4,2,0,"島松東町２ 丁目"]
["島松東町３ 丁目",365,15,14,21,18,18,10,12,13,31,26,28,26,19,24,33,25,18,14,0,0,0,"島松東町３ 丁目"]
["島松東町４ 丁目",215,4,10,10,12,5,6,10,12,17,16,10,15,25,21,13,19,7,3,0,0,0,"島松東町４ 丁目"]
["島松本町１ 丁目",510,14,13,32,30,30,24,16,25,29,41,44,44,28,37,28,22,29,16,7,1,0,"島松本町１ 丁目"]
["島松本町２ 丁目",606,21,22,38,30,31,30,26,32,42,40,48,36,41,27,32,38,45,21,6,0,0,"島松本町２ 丁目"]
["島松本町３ 丁目",749,32,33,27,34,40,41,55,50,51,46,48,36,53,70,44,50,20,13,5,1,0,"島松本町３ 丁目"]
["島松本町４ 丁目",520,13,20,33,22,13,16,19,34,39,31,39,25,34,63,44,34,20,18,2,1,0,"島松本町４ 丁目"]
["島松旭町１ 丁目",307,8,8,11,20,19,9,16,14,11,25,31,27,26,31,18,14,14,2,3,0,0,"島松旭町１ 丁目"]
["島松旭町２ 丁目",318,7,12,17,19,13,12,14,12,25,24,16,23,40,25,13,20,14,9,2,1,0,"島松旭町２ 丁目"]
["島松旭町３ 丁目",{"$f":"SUM(C47:W47)","v":329},12,25,40,45,12,6,15,20,47,41,29,6,15,10,1,4,1,0,0,0,0,"島松旭町３ 丁目"]
["島松旭町４ 丁目",{"$f":"SUM(C48:W48)","v":412},11,11,22,18,21,15,23,19,25,17,28,21,36,43,41,36,10,9,4,1,1,"島松旭町４ 丁目"]
["西島松",{"$f":"SUM(C49:W49)","v":701},21,17,16,39,101,86,49,44,52,25,30,25,31,43,46,28,23,14,7,3,1,"西島松"]
["南島松",247,3,3,4,4,5,11,6,9,8,5,15,19,32,20,13,9,33,30,14,4,0,"南島松"]
["中島松",165,4,3,5,5,7,11,4,6,7,6,10,11,26,16,10,11,10,12,1,0,0,"中島松"]
["下      島   　 松",{"$f":"SUM(C52:W52)","v":308},3,9,10,11,9,8,8,9,16,15,22,22,30,34,25,28,27,17,4,1,0,"下　　　島　　　松"]
["穂              栄",{"$f":"SUM(C53:W53)","v":103},5,4,0,0,2,1,4,5,5,8,1,2,10,9,16,18,4,4,2,3,0,"穂　　　　　　　栄"]
["北              島",{"$f":"SUM(C54:W54)","v":94},0,8,8,3,2,3,2,6,3,3,11,5,8,5,4,10,10,0,3,0,0,"北　　　　　　　島"]
["合計",47184,2124,2381,2367,2590,2579,2463,2882,3699,3832,3330,2878,2613,3206,2904,2483,2170,1448,831,310,87,7,"合　　　　　　　計"]
["〈資料〉生活環境部市民課"]

{"sheet":"全道各市の人口","index":11,"n_rows":57,"n_cols":11,"rows_kept":57,"cut":false,"hidden":false,"merged":[[55,9,55,10],[3,0,5,0],[3,1,5,1],[2,9,2,10],[3,7,3,10],[4,2,4,4],[4,5,5,5],[4,7,4,9],[4,10,5,10],[3,2,3,5],[3,6,5,6]]}
["９）全道各市の人口（人口順）"]
[]
[null,null,null,null,null,null,null,null,null,"（各年1月1日）"]
["順　位","区　分","平 成 2 6 年",null,null,null,"区　分","平 成 2 7 年"]
[null,null,"人　　口",null,null,"世帯数",null,"人　　口",null,null,"世帯数"]
[null,null,"総　数","男","女",null,null,"総　数","男","女"]
[null,"全道",5441079,2575347,2865732,2709054,"全道",5408756,2558545,2850211,2718933]
[null,"市部",4415521,2082408,2333113,2236041,"市部",4397982,2072526,2325456,2247111]
[null,"郡部",1025558,492939,532619,473013,"郡部",1010774,486019,524755,471822]
[]
[1,"札幌市",1921070,901232,1019838,998250,"札幌市",1926287,902802,1023485,1008265]
[null,"中央区",222392,100594,121798,130239,"中央区",224928,101791,123137,132090]
[null,"北区",278827,132513,146314,142540,"北区",280033,132988,147045,144211]
[null,"東区",256240,122029,134211,134396,"東区",257110,122337,134773,135739]
[null,"白石区",208624,99594,109030,114740,"白石区",209324,99898,109426,115818]
[null,"豊平区",216009,100723,115286,118282,"豊平区",216931,101034,115897,119538]
[null,"南区",142439,66466,75973,71232,"南区",141262,65819,75443,71463]
[null,"西区",211079,98083,112996,107674,"西区",211711,98133,113578,108703]
[null,"厚別区",129517,59751,69766,62409,"厚別区",129058,59469,69589,62898]
[null,"手稲区",140922,66716,74206,66001,"手稲区",141009,66696,74313,66580]
[null,"清田区",115021,54763,60258,50737,"清田区",114921,54637,60284,51225]
[2,"旭川市",348378,162064,186314,175253,"旭川市",346507,161096,185411,175912]
[3,"函館市",273712,125039,148673,143277,"函館市",270674,123546,147128,142997]
[4,"釧路市",179754,84848,94906,94012,"釧路市",177921,83955,93966,94188]
[5,"苫小牧市",174024,84926,89098,85453,"苫小牧市",173632,84740,88892,86018]
[6,"帯広市",168614,80698,87916,83881,"帯広市",168255,80341,87914,84657]
[7,"小樽市",126781,57296,69485,66003,"小樽市",124553,56249,68304,65433]
[8,"北見市",123074,58565,64509,60878,"北見市",121866,57917,63949,61017]
[9,"江別市",120439,57344,63095,54704,"江別市",119822,56999,62823,54944]
[10,"千歳市",95078,48450,46628,45925,"千歳市",95112,48381,46731,46282]
[11,"室蘭市",90996,43689,47307,47215,"室蘭市",89512,42897,46615,46986]
[12,"岩見沢市",87161,40880,46281,42310,"岩見沢市",85936,40331,45605,42138]
[13,"恵庭市",68653,33516,35137,30856,"恵庭市",68731,33485,35246,31165]
[14,"北広島市",59771,28761,31010,26388,"北広島市",59485,28627,30858,26604]
[15,"石狩市",59827,28946,30881,26837,"石狩市",59218,28675,30543,26867]
[16,"登別市",50797,24239,26558,24846,"登別市",50462,24073,26389,24938]
[17,"北斗市",48235,22806,25429,21688,"北斗市",47867,22601,25266,21741]
[18,"滝川市",42212,19929,22283,21343,"滝川市",41844,19729,22115,21340]
[19,"網走市",38068,18749,19319,18423,"網走市",37553,18478,19075,18329]
[20,"稚内市",36918,18106,18812,18479,"稚内市",36500,17915,18585,18375]
[21,"伊達市",36085,16887,19198,17878,"伊達市",35712,16702,19010,17814]
[22,"名寄市",29478,14314,15164,14433,"名寄市",29031,14133,14898,14317]
[23,"根室市",28289,13599,14690,12860,"根室市",27793,13364,14429,12780]
[24,"美唄市",24446,11553,12893,12122,"美唄市",23935,11319,12616,12258]
[25,"紋別市",23774,11265,12509,12016,"紋別市",23355,11065,12290,11916]
[26,"富良野市",23473,11105,12368,10927,"富良野市",23177,10949,12228,10903]
[28,"留萌市",23362,11193,12169,11965,"留萌市",22867,10944,11923,11844]
[27,"深川市",22648,10557,12091,11197,"深川市",22225,10371,11854,11102]
[29,"士別市",21037,9908,11129,9783,"士別市",20637,9751,10886,9720]
[30,"砂川市",18416,8564,9852,9076,"砂川市",18082,8407,9675,9025]
[31,"芦別市",15813,7241,8572,8375,"芦別市",15362,7029,8333,8217]
[32,"赤平市",11657,5338,6319,6388,"赤平市",11332,5180,6152,6284]
[33,"三笠市",9687,4363,5324,5449,"三笠市",9505,4290,5215,5314]
[34,"夕張市",9774,4598,5176,5348,"夕張市",9409,4418,4991,5288]
[35,"歌志内市",4020,1840,2180,2203,"歌志内市",3823,1767,2056,2133]
["〈資料〉北海道統計",null,null,null,null,null,null,null,null,"（単位：人）"]
["　 注）北海道による住民基本台帳移動報告については「外国人住民」を含めていない。"]

{"sheet":"国調人口推移","index":12,"n_rows":26,"n_cols":7,"rows_kept":26,"cut":false,"hidden":false,"merged":[[25,5,25,6],[0,0,0,6],[4,0,5,1],[4,6,5,6],[3,5,3,6],[4,2,5,2],[4,3,4,5]]}
["２．国勢調査人口"]
[]
["１) 人口の推移（年次別）"]
[null,null,null,null,null,"（各年10月1日）"]
["年",null,"世帯数","人　　　口",null,null,"前回比"]
[null,null,null,"男","女","総　数"]
["大正","9年",1227,3522,3443,6965,"-"]
["大正","14年",1269,3711,3645,7356,5.6]
["昭和","5年",1391,4203,4005,8208,11.6]
[null,"10年",1467,4329,4250,8579,4.5]
[null,"15年",1590,4806,4623,9429,9.9]
[null,"22年",2321,6717,6305,13022,38.1]
[null,"2年",2311,7923,6533,14456,11]
[null,"30年",3765,13850,9530,23380,61.7]
[null,"35年",5085,15244,11398,26642,14]
[null,"40年",6863,16459,13850,30309,13.8]
[null,"45年",8710,18139,16310,34449,13.7]
[null,"50年",10806,20836,19048,39884,15.8]
[null,"55年",12321,22072,20839,42911,7.6]
[null,"60年",14220,24474,23831,48305,12.6]
["平成","2年",17528,27980,27635,55615,15.1]
[null,"7年",21383,31376,30975,62351,12.1]
[null,"12年",23660,{"$f":"32503","v":32503},32736,{"$f":"D23+E23","v":65239},4.5999999999999996]
[null,"17年",25662,33317,34297,{"$f":"SUM(D24:E24)","v":67614},3.6]
[null,"22年",27634,33945,35439,69384,2.6]
["〈資料〉総務省　国勢調査",null,null,null,null,"（単位：人）"]

{"sheet":"地域の人口①","index":13,"n_rows":59,"n_cols":11,"rows_kept":59,"cut":false,"hidden":false,"merged":[[1,9,1,10],[55,9,55,10],[44,9,45,9],[44,10,45,10],[44,1,45,1],[44,2,45,2],[44,3,45,3],[44,4,45,4],[2,0,3,0],[2,1,2,4],[2,5,2,8],[2,9,2,10],[27,1,38,1],[27,2,38,2],[27,3,38,3],[27,4,38,4],[27,9,38,9],[27,10,38,10]]}
["２）地域の人口"]
[null,null,null,null,null,null,null,null,null,"（各年10月1日）"]
["町名","平成17年国勢調査",null,null,null,"平成22年国勢調査",null,null,null,"比較"]
[null,"世帯数","男","女","計","世帯数","男","女","計","世帯数","人口"]
["合計",25662,33317,34297,67614,27634,33945,35439,69384,{"$f":"$F5-$B5","v":1972},{"$f":"$I5-$E5","v":1770}]
["漁太",57,92,93,185,54,79,80,159,{"$f":"$F6-$B6","v":-3},-26]
["林田",17,28,31,59,16,25,21,46,-1,-13]
["春日",60,88,87,175,52,79,69,148,-8,-27]
["中央",64,98,96,194,60,91,86,177,-4,-17]
["上山口",72,120,128,248,67,92,106,198,-5,-50]
["戸磯",1128,1533,1501,3034,52,58,81,139,-1076,-2895]
["恵南",232,530,312,842,229,422,296,718,-3,-124]
["和光町１丁目",170,211,221,432,173,200,210,410,3,-22]
["和光町２丁目",210,297,278,575,209,303,275,578,-1,3]
["和光町３丁目",199,245,284,529,192,229,249,478,-7,-51]
["和光町４丁目",164,208,226,434,204,231,246,477,{"$f":"F16-B16","v":40},{"$f":"I16-E16","v":43}]
["和光町５丁目","-","-","-","-",321,367,342,709,"-","-"]
["駒場町１丁目",258,315,317,632,284,315,314,629,{"$f":"$F18-$B18","v":26},{"$f":"$I18-$E18","v":-3}]
["駒場町２丁目",128,147,170,317,140,183,189,372,{"$f":"$F19-$B19","v":12},{"$f":"$I19-$E19","v":55}]
["駒場町３丁目",91,119,139,258,94,117,126,243,3,-15]
["駒場町４丁目",122,167,182,349,134,178,173,351,12,2]
["駒場町５丁目",95,117,106,223,94,110,104,214,-1,-9]
["駒場町６丁目",110,143,140,283,112,147,148,295,2,12]
["白樺町１丁目",138,178,181,359,152,191,198,389,14,30]
["白樺町２丁目",154,208,161,369,143,178,152,330,-11,-39]
["白樺町３丁目",216,344,348,692,220,311,338,649,4,-43]
["白樺町４丁目",15,63,26,89,16,40,35,75,1,-14]
["黄金南１丁目",962,1125,1168,2293,290,404,427,831,{"$f":"(F28+F29+F30+F31+F32+F33+F34+F35+F36+F37+F38+F39)-B28","v":1512},{"$f":"(I28+I29+I30+I31+I32+I33+I34+I35+I36+I37+I38+I39)-E28","v":3943}]
["黄金南２丁目",null,null,null,null,241,308,318,626]
["黄金南３丁目",null,null,null,null,256,353,373,726]
["黄金南４丁目",null,null,null,null,263,428,400,828]
["黄金南５丁目",null,null,null,null,85,104,120,224]
["黄金南６丁目",null,null,null,null,91,148,142,290]
["黄金南７丁目",null,null,null,null,266,373,390,763]
["黄金中央１丁目",null,null,null,null,207,216,207,423]
["黄金中央２丁目",null,null,null,null,224,181,203,384]
["黄金中央３丁目",null,null,null,null,333,304,310,614]
["黄金中央４丁目",null,null,null,null,218,277,250,527]
["黄金中央５丁目",null,null,null,null,0,0,0,0]
["黄金北１丁目",234,277,254,531,284,313,303,616,{"$f":"F40-B40","v":50},{"$f":"$I40-$E40","v":85}]
["黄金北２丁目","-","-","-","-",226,251,285,536,"-","-"]
["黄金北３丁目",327,407,411,818,320,383,419,802,{"$f":"$F42-$B42","v":-7},{"$f":"$I42-$E42","v":-16}]
["黄金北４丁目",318,371,396,767,345,368,403,771,{"$f":"$F43-$B43","v":27},{"$f":"$I43-$E43","v":4}]
["相生町",805,809,832,1641,940,895,906,1801,{"$f":"$F44-$B44","v":135},{"$f":"$I44-$E44","v":160}]
["緑町１丁目",391,429,488,917,98,96,78,174,{"$f":"(F45+F46)-B45","v":26},{"$f":"(I45+I46)-E45","v":-12}]
["緑町２丁目",null,null,null,null,319,333,398,731]
["住吉町１丁目",95,123,119,242,104,118,129,247,{"$f":"$F47-$B47","v":9},{"$f":"$I47-$E47","v":5}]
["住吉町２丁目",227,303,316,619,268,320,336,656,{"$f":"$F48-$B48","v":41},{"$f":"$I48-$E48","v":37}]
["住吉町３丁目",200,234,221,455,232,259,277,536,32,81]
["住吉町４丁目",148,188,211,399,154,182,219,401,6,2]
["末広町",251,251,265,516,273,269,308,577,22,61]
["栄恵町",91,88,98,186,95,84,85,169,4,-17]
["泉町",289,280,277,557,340,331,290,621,51,64]
["桜町１丁目",197,245,210,455,161,200,156,356,-36,-99]
["桜町２丁目",362,406,457,863,374,375,468,843,12,-20]
["〈資料〉総務省　国勢調査",null,null,null,null,null,null,null,null,"（単位：人）"]
["　　注）和光町5丁目は戸磯から、黄金北2丁目･黄金中央1～5丁目･黄金南1～7丁目は黄金町及び戸磯の一部から分割"]
["　　　　した新住居表示である。"]
["　　　"]

{"sheet":"地域の人口②","index":14,"n_rows":53,"n_cols":11,"rows_kept":53,"cut":false,"hidden":false,"merged":[[0,9,0,10],[52,8,52,10],[42,9,45,9],[42,10,45,10],[1,5,1,8],[1,9,1,10],[1,0,2,0],[1,1,1,4],[42,3,45,3],[42,4,45,4],[42,1,45,1],[42,2,45,2]]}
[null,null,null,null,null,null,null,null,null,"（各年10月1日）"]
["町名","平成17年国勢調査",null,null,null,"平成22年国勢調査",null,null,null,"比較"]
[null,"世帯数","男","女","計","世帯数","男","女","計","世帯数","人口"]
["桜町３丁目",123,173,155,328,147,202,178,380,{"$f":"$F4-$B4","v":24},{"$f":"$I4-$E4","v":52}]
["桜町４丁目",2,"-",2,2,0,0,0,0,-2,-2]
["京町",36,40,49,89,59,56,59,115,23,26]
["漁町",491,526,525,1051,523,519,522,1041,32,-10]
["福住町１丁目",330,414,456,870,327,398,433,831,-3,-39]
["福住町２丁目",171,187,203,390,162,165,200,365,-9,-25]
["福住町３丁目",239,279,285,564,220,239,274,513,-19,-51]
["新町",57,70,33,103,55,63,38,101,{"$f":"$F11-$B11","v":-2},{"$f":"$I11-$E11","v":-2}]
["本町",207,252,251,503,216,257,257,514,9,11]
["有明町１丁目",242,263,278,541,230,234,251,485,-12,-56]
["有明町２丁目",200,252,245,497,210,251,271,522,10,25]
["有明町３丁目",125,152,178,330,121,129,156,285,-4,-45]
["有明町４丁目",124,162,161,323,123,147,171,318,-1,-5]
["有明町５丁目",108,130,119,249,115,133,132,265,7,16]
["有明町６丁目",177,205,209,414,175,207,201,408,-2,-6]
["大町１丁目",92,105,110,215,87,102,111,213,-5,-2]
["大町２丁目",78,87,96,183,81,85,78,163,3,-20]
["大町３丁目",83,104,111,215,92,121,117,238,9,23]
["大町４丁目",86,97,106,203,89,105,111,216,3,13]
["文京町１丁目",204,264,284,548,217,269,297,566,13,18]
["文京町２丁目",163,235,247,482,170,220,255,475,7,-7]
["文京町３丁目",50,62,62,124,74,87,77,164,24,40]
["文京町４丁目",222,306,323,629,212,296,303,599,-10,-30]
["牧場",100,175,166,341,100,161,156,317,0,-24]
["美咲野１丁目",171,278,314,592,187,296,322,618,16,26]
["美咲野２丁目",115,198,200,398,116,188,201,389,1,-9]
["美咲野３丁目",105,187,170,357,129,203,193,396,24,39]
["美咲野４丁目",88,154,139,293,93,158,156,314,5,21]
["美咲野５丁目",84,116,128,244,90,116,131,247,6,3]
["美咲野６丁目",89,119,143,262,120,189,194,383,31,121]
["盤尻",6,10,5,15,8,9,8,17,2,2]
["桜森",0,0,0,0,0,0,0,0,0,0]
["中島町１丁目",260,308,328,636,268,330,331,661,{"$f":"$F36-$B36","v":8},{"$f":"$I36-$E36","v":25}]
["中島町２丁目",179,291,265,556,203,286,295,581,{"$f":"$F37-$B37","v":24},{"$f":"$I37-$E37","v":25}]
["中島町３丁目",52,86,74,160,70,100,95,195,18,35]
["中島町４丁目",480,560,569,1129,516,558,566,1124,36,-5]
["中島町５丁目",278,223,208,431,318,283,238,521,40,90]
["中島町６丁目",314,381,380,761,355,353,420,773,41,12]
["恵央町",330,301,371,672,321,271,352,623,-9,-49]
["幸町１丁目",408,542,535,1077,85,110,108,218,{"$f":"(F43+F44+F45+F46)-B43","v":6},{"$f":"(I43+I44+I45+I46)-E43","v":5}]
["幸町２丁目",null,null,null,null,152,208,208,416]
["幸町３丁目",null,null,null,null,177,201,247,448]
["幸町４丁目",null,null,null,null,0,0,0,0]
["柏陽町１丁目",329,382,422,804,334,362,387,749,{"$f":"$F47-$B47","v":5},{"$f":"$I47-$E47","v":-55}]
["柏陽町３丁目",445,563,555,1118,513,602,591,1193,68,75]
["柏陽町４丁目",315,321,380,701,325,298,349,647,10,-54]
["柏木町",951,1506,1255,2761,997,1441,1232,2673,46,-88]
["北柏木町１丁目",482,669,717,1386,492,646,686,1332,10,-54]
["北柏木町３丁目",11,13,11,24,10,14,12,26,-1,2]
["〈資料〉総務省　国勢調査",null,null,null,null,null,null,null,"（単位：人）"]

{"sheet":"地域の人口③","index":15,"n_rows":56,"n_cols":11,"rows_kept":56,"cut":false,"hidden":false,"merged":[[0,9,0,10],[55,8,55,10],[1,0,2,0],[1,1,1,4],[1,5,1,8],[1,9,1,10]]}
[null,null,null,null,null,null,null,null,null,"（各年10月1日）"]
["町名","平成17年国勢調査",null,null,null,"平成22年国勢調査",null,null,null,"比較"]
[null,"世帯数","男","女","計","世帯数","男","女","計","世帯数","人口"]
["北柏木町４丁目",1,2,1,3,0,0,0,0,{"$f":"$F4-$B4","v":-1},{"$f":"$I4-$E4","v":-3}]
["北柏木町５丁目",2,2,1,3,0,0,0,0,{"$f":"$F5-$B5","v":-2},{"$f":"$I5-$E5","v":-3}]
["島松沢",13,14,12,26,11,12,11,23,{"$f":"$F6-$B6","v":-2},{"$f":"$I6-$E6","v":-3}]
["恵み野東１丁目",104,139,169,308,109,133,159,292,{"$f":"$F7-$B7","v":5},{"$f":"$I7-$E7","v":-16}]
["恵み野東２丁目",191,280,298,578,205,272,288,560,14,-18]
["恵み野東３丁目",136,190,216,406,145,182,203,385,9,-21]
["恵み野東４丁目",128,190,197,387,128,182,196,378,0,-9]
["恵み野東５丁目",196,274,296,570,216,297,286,583,20,13]
["恵み野東６丁目",168,250,251,501,170,235,231,466,2,-35]
["恵み野東７丁目",187,322,311,633,181,281,287,568,-6,-65]
["恵み野西１丁目",282,319,401,720,285,303,388,691,3,-29]
["恵み野西２丁目",87,119,178,297,97,116,172,288,10,-9]
["恵み野西３丁目",142,173,201,374,143,168,182,350,1,-24]
["恵み野西４丁目",178,208,255,463,179,206,242,448,1,-15]
["恵み野西５丁目",100,118,146,264,104,157,194,351,4,87]
["恵み野西６丁目",315,404,485,889,317,472,467,939,2,50]
["恵み野南１丁目",212,265,287,552,162,190,212,402,-50,-150]
["恵み野南２丁目",215,273,304,577,213,261,304,565,-2,-12]
["恵み野南３丁目",239,301,342,643,244,300,328,628,5,-15]
["恵み野南４丁目",277,337,399,736,286,332,418,750,9,14]
["恵み野北１丁目",187,245,275,520,197,239,276,515,10,-5]
["恵み野北２丁目",180,232,270,502,185,227,268,495,5,-7]
["恵み野北３丁目",117,174,201,375,114,124,216,340,-3,-35]
["恵み野北４丁目",134,164,165,329,124,151,163,314,-10,-15]
["恵み野北５丁目",176,245,284,529,123,165,174,339,-53,-190]
["恵み野北６丁目",247,320,327,647,257,322,328,650,10,3]
["恵み野北７丁目",254,411,456,867,274,415,471,886,20,19]
["島松寿町１丁目",287,315,351,666,289,308,335,643,2,-23]
["島松寿町２丁目",426,471,563,1034,443,478,562,1040,17,6]
["島松仲町１丁目",137,157,194,351,119,147,161,308,-18,-43]
["島松仲町２丁目",115,119,143,262,109,114,125,239,-6,-23]
["島松仲町３丁目",65,81,85,166,71,78,86,164,6,-2]
["島松東町１丁目",96,127,129,256,96,130,139,269,0,13]
["島松東町２丁目",155,179,216,395,145,164,194,358,-10,-37]
["島松東町３丁目",220,282,257,539,208,249,218,467,-12,-72]
["島松東町４丁目",70,87,100,187,78,105,108,213,8,26]
["島松本町１丁目",185,252,269,521,183,233,271,504,-2,-17]
["島松本町２丁目",248,311,331,642,255,311,332,643,7,1]
["島松本町３丁目",236,271,346,617,286,349,394,743,50,126]
["島松本町４丁目",178,242,241,483,199,265,268,533,21,50]
["島松旭町１丁目",99,155,159,314,104,151,159,310,5,-4]
["島松旭町２丁目",134,177,192,369,136,173,198,371,2,2]
["島松旭町３丁目",82,132,133,265,95,152,164,316,13,51]
["島松旭町４丁目",142,194,204,398,146,185,206,391,4,-7]
["西島松",205,685,450,1135,192,561,421,982,-13,-153]
["南島松",84,135,174,309,79,137,203,340,-5,31]
["中島松",50,90,98,188,54,92,90,182,4,-6]
["下島松",94,227,235,462,95,229,233,462,1,0]
["穂栄",42,50,56,106,42,48,53,101,0,-5]
["北島",45,72,70,142,32,57,47,104,-13,-38]
[null,null,null,null,null,null,null,null,null,0,0]
["合計",25662,33317,34297,67614,27634,33945,35439,69384,{"$f":"F55-B55","v":1972},{"$f":"I55-E55","v":1770}]
["注）幸町1～4丁目は幸町から分割した新住居表示である。",null,null,null,null,null,null,null,"（単位：人）"]

{"sheet":"国調年齢別","index":16,"n_rows":38,"n_cols":9,"rows_kept":38,"cut":false,"hidden":false,"merged":[[1,7,1,8],[37,7,37,8],[2,6,2,8],[4,0,4,1],[31,0,31,1],[35,0,35,1],[36,0,36,1],[2,0,3,2],[2,3,2,5]]}
["３）年齢別人口（５歳階級）"]
[null,null,null,null,null,null,null,"（各年10月1日）"]
["年   齢  （各  歳）",null,null,"平成17年",null,null,"平成22年"]
[null,null,null,"総   数","男","女","総   数","男","女"]
["総数",null,null,{"$f":"SUM(D6:D23)","v":67614},{"$f":"SUM(E6:E23)","v":33317},{"$f":"SUM(F6:F23)","v":34297},{"$f":"SUM(G6:G25)","v":69384},33945,35439]
[null,"85  以上",null,{"$f":"E6+F6","v":1108},323,785,1613,491,1122]
[null,"80～84",null,1298,500,798,2108,948,1160]
[null,"75～79",null,2394,1175,1219,3015,1427,1588]
[null,"70～74",null,3248,1589,1659,3612,1654,1958]
[null,"65～69    ",null,3799,1786,2013,4079,1872,2207]
[null,"60～64",null,4167,1945,2222,5331,2581,2750]
[null,"55～59",null,5266,2530,2736,4957,2391,2566]
[null,"50～54",null,4946,2401,2545,4164,2051,2113]
[null,"45～49",null,4156,2069,2087,4338,2131,2207]
[null,"40～44 ",null,4327,2135,2192,4626,2314,2312]
[null,"35～39",null,4488,2235,2253,5066,2540,2526]
[null,"30～34",null,4867,2482,2385,4520,2299,2221]
[null,"25～29",null,4306,2237,2069,3699,1866,1833]
[null,"20～24",null,4586,2430,2156,4185,2157,2028]
[null,"15～19    ",null,4447,2272,2175,4224,2216,2008]
[null,"10～14    ",null,3671,1903,1768,3498,1780,1718]
[null,"5～9    ",null,3443,1742,1701,3264,1662,1602]
[null,"0～4",null,3097,1563,1534,2928,1467,1461]
[]
[null,"不詳",null,"-","-","-",157,"98","59"]
[]
["（再　掲）    "]
[null,"15歳未満",null,{"$f":"E28+F28","v":10211},{"$f":"E21+E22+E23","v":5208},{"$f":"F21+F22+F23","v":5003},9690,4909,4781]
[null,"15～64歳",null,{"$f":"E29+F29","v":45556},{"$f":"SUM(E11:E20)","v":22736},{"$f":"SUM(F11:F20)","v":22820},45110,22546,22564]
[null,"65歳以上",null,{"$f":"E30+F30","v":11847},{"$f":"SUM(E6:E10)","v":5373},{"$f":"SUM(F6:F10)","v":6474},14427,6392,8035]
[null,"不詳",null,"-","-","-",157,"98","59"]
[" 年齢別割合(%)"]
[null,"15歳未満",null,15.1,15.6,14.6,{"$f":"G28/G5*100","v":13.965755793842959},{"$f":"H28/H5*100","v":14.461629105906615},{"$f":"I28/I5*100","v":13.490786986088773}]
[null,"15～64歳",null,67.400000000000006,68.2,66.5,{"$f":"G29/G5*100","v":65.014989046466042},{"$f":"H29/H5*100","v":66.419207541611428},{"$f":"I29/I5*100","v":63.669968114224439}]
[null,"65歳以上",null,17.5,16.100000000000001,18.899999999999999,{"$f":"G30/G5*100","v":20.792978208232444},{"$f":"H30/H5*100","v":18.830461039917516},{"$f":"I30/I5*100","v":22.672761646773328}]
["平均年齢",null,"(歳)",41.3,40.200000000000003,42.4,43.5,42.3,44.6]
["年齢中位数",null,"(歳)",41,39.4,42.5,43.3,41.9,45]
["〈資料〉総務省　国勢調査　（第1次基本集計結果　第3表）",null,null,null,null,null,null,"（単位：人）"]

{"sheet":"人口集中地区、昼間・夜間人口、産業別就業人口","index":17,"n_rows":51,"n_cols":8,"rows_kept":51,"cut":false,"hidden":false,"merged":[[2,5,2,6],[27,5,28,5],[3,0,4,0],[3,5,4,5],[3,6,4,6],[27,2,28,2],[3,2,3,4],[3,1,4,1],[26,5,26,6],[27,3,28,3],[22,0,22,1],[27,6,28,6],[27,4,28,4],[48,0,48,1],[49,0,49,1],[42,0,42,1],[50,4,50,5],[40,0,40,1],[41,0,41,1],[46,0,46,1],[47,0,47,1],[29,0,29,1],[39,0,39,1],[36,6,36,7],[43,6,43,7],[43,2,43,3],[32,5,32,6],[30,0,30,1],[31,0,31,1]]}
["４）人口集中地区（ＤＩＤ）人口および面積"]
[]
[null,null,null,null,null,"（各年10月1日）"]
["年　　次","地区","人　口　集　中　地　区",null,null,"面　積　　　","人口密度\n（１㎢あたり）"]
[null,null," 総　　数","男","女"]
["平成７年",null,52895,"…","…",11.8,4478.8]
[null,"Ⅰ",45485,null,null,10.4,4390.3999999999996]
[null,"Ⅱ",7410,null,null,1.4,5145.8]
["平成12年",null,56262,null,null,12.23,4600.3]
[null,"Ⅰ",48955,"…","…",10.8,4532.8999999999996]
[null,"Ⅱ",7307,null,null,1.43,5109.8]
["平成17年",null,{"$f":"C13+C14","v":58772},null,null,{"$f":"F13+F14","v":12.780000000000001},4598.7]
[null,"Ⅰ",51337,"…","…",11.3,4543.1000000000004]
[null,"Ⅱ",7435,null,null,1.48,5023.6000000000004]
["平成22年",null,62946,30742,32204,13.89,4531.7]
[null,"Ⅰ",55487,"…","…",12.38,4482]
[null,"Ⅱ",7459,null,null,1.51,4939.7]
["〈資料〉総務省　国勢調査",null,null,null,null,null,"（単位：㎢）"]
["　　注）Ⅰは恵庭･恵み野地区、Ⅱは島松地区をさす。"]
["〈人口集中地区〉"]
["　国勢調査区を基礎単位地域として用い、人口密度１平方キロメートル当り4,000人以上の調"]
["　査区が市の境域内で互いに隣接して、人口5,000人以上を有する場合、この地域を人口集中"]
["　地区とした。"]
[]
[]
["５）恵庭市の昼間人口、夜間人口（詳細は３２～３３頁）"]
[null,null,null,null,null,"（各年10月1日）"]
[null,"年次","平成２年","平成７年","平成12年","平成17年","平成22年"]
["区分"]
["昼間人口",null,50513,56822,60882,63123,65782]
["夜間人口",null,55547,62345,65238,67614,69384]
["昼間人口率",null,90.8,90.9,93.3,93.4,94.8]
["〈資料〉総務省　国勢調査",null,null,null,null,"（単位：人）"]
[]
[]
["６）産業別就業人口（詳細は３４～３５頁）"]
[null,null,null,null,null,null,"（各年10月1日）"]
[null,"年次","平成2年",null,"平成7年",null,"平成12年"]
["産業別",null,null,"構成比",null,"構成比",null,"構成比"]
["第１次産業",null,1652,{"$f":"C40/26809*100","v":6.1621097392666639},1523,{"$f":"E40/31101*100","v":4.8969486511687723},1387,{"$f":"G40/30926*100","v":4.4848994373666171}]
["第２次産業",null,6845,{"$f":"C41/26809*100","v":25.53247043903167},8411,{"$f":"E41/31101*100","v":27.044146490466542},7934,{"$f":"G41/30926*100","v":25.654788850805151}]
["第３次産業",null,18312,{"$f":"C42/26809*100","v":68.305419821701662},21167,{"$f":"E42/31101*100","v":68.058904858364684},21605,{"$f":"G42/30926*100","v":69.860311711828231}]
["合　　　計",null,26809,{"$f":"C43/26809*100","v":100},31101,{"$f":"E43/31101*100","v":100},{"$f":"SUM(G40:G42)","v":30926},{"$f":"G43/30926*100","v":100}]
[]
[null,"年次","平成17年",null,"平成22年"]
["産業別",null,null,"構成比",null,"構成比"]
["第１次産業",null,1464,{"$f":"C47/31398*100","v":4.662717370533155},1151,{"$f":"E47/E50*100","v":3.7473547126811004}]
["第２次産業",null,7282,{"$f":"C48/31398*100","v":23.192560035671061},6688,{"$f":"E48/E50*100","v":21.774377340061861}]
["第３次産業",null,22652,{"$f":"C49/31398*100","v":72.144722593795791},22876,{"$f":"E49/E50*100","v":74.478267947257038}]
["合　　　計",null,{"$f":"SUM(C47:C49)","v":31398},{"$f":"C50/31398*100","v":100},{"$f":"SUM(E47:E49)","v":30715},{"$f":"E50/E50*100","v":100}]
["〈資料〉総務省　国勢調査",null,null,null,"（単位：人）"]

{"sheet":"夜間及び昼間人口、通学者数","index":18,"n_rows":45,"n_cols":15,"rows_kept":45,"cut":false,"hidden":false,"merged":[[38,0,39,0],[38,12,39,12],[36,11,37,11],[38,11,39,11],[42,0,43,0],[42,12,43,12],[40,0,41,0],[40,12,41,12],[40,11,41,11],[42,11,43,11],[34,0,35,0],[34,12,35,12],[32,11,33,11],[32,12,33,12],[36,0,37,0],[36,12,37,12],[23,0,24,0],[25,0,26,0],[25,14,26,14],[32,0,33,0],[32,1,33,1],[32,2,33,2],[32,3,32,10],[17,0,18,0],[17,14,18,14],[19,0,20,0],[21,0,22,0],[21,14,22,14],[2,14,4,14],[3,3,4,3],[3,4,4,4],[3,5,4,5],[3,8,4,8],[3,9,4,9],[3,10,4,10],[3,12,4,12],[3,13,4,13],[2,0,4,0],[2,2,2,6],[2,7,2,11],[15,0,16,0],[3,1,4,1],[15,1,16,1],[15,2,15,4],[15,5,15,12],[15,13,16,13],[10,13,10,14],[44,11,44,12],[27,13,27,14],[23,13,24,13],[25,13,26,13],[34,11,35,11],[17,13,18,13],[19,13,20,13],[15,14,16,14],[19,14,20,14],[23,14,24,14],[21,13,22,13]]}
["７）夜間人口及び昼間人口（詳細）"]
[null,null,null,null,null,null,null,null,null,null,null,null,null,null,"（各年10月1日）"]
["年　　次","夜間人口","流　　出　　人　　口",null,null,null,null,"流　　入　　人　　口",null,null,null,null,"昼間人口","昼間人口率","年　　次"]
[null,"（Ａ)","総　数","通　勤","通　学","不　詳","流出率","総　数","通　勤","通　学","不　詳","流入率","（Ａ－Ｂ）＋（Ｃ）＝（Ｅ）","（Ｅ）／（Ａ）"]
[null,null,"（Ｂ）",null,null,null,"（Ｂ）／（Ａ）","（Ｃ）",null,null,null,"（Ｃ）／（Ａ）"]
["平成２年",55547,10020,7972,2048,"－",18,4986,3912,1071,3,9,50513,90.8,"平成２年"]
["平成７年",62345,12239,10009,2230,"－",19.600000000000001,6716,5309,1407,"－",10.8,56822,90.9,"平成７年"]
["平成12年",65238,12703,10389,2314,"－",19.5,8347,6557,1790,"－",12.8,60882,93.3,"平成12年"]
["平成17年",67614,13701,11568,2133,"－",20.3,9210,7157,2053,"－",13.6,63123,93.4,"平成17年"]
["平成22年",69384,13477,11306,"…","…",{"$f":"C10/B10*100","v":19.42378646373804},9875,7639,{"$f":"H10-I10","v":2236},"－",{"$f":"H10/B10*100","v":14.2323878704024},{"$f":"(B10-C10)+H10","v":65782},"94.8","平成22年"]
["〈資料〉総務省　国勢調査",null,null,null,null,null,null,null,null,null,null,null,null,"（単位：人、％）"]
["　　注）平成22年国勢調査については「不詳」を含めていない。"]
[]
["８）恵庭市に常住する就業・通学市町村別１５歳以上就業者および通学者数"]
[null,null,null,null,null,null,null,null,null,null,null,null,null,null,"（各年10月1日）"]
["年　　次","総　　数","市内で就業・通学する者",null,null,"他の市町村で就業・通学する者",null,null,null,null,null,null,null,"不　　詳","年　　次"]
[null,null,"小　　計","自　　宅","自　宅　外","小　　計","札　幌　市","千　歳　市","江　別　市","苫小牧市","北広島市","その他市町村","道　　外"]
["平成２年",30686,20688,3065,17623,9998,4238,3340,230,297,1516,362,15,"－","平成２年"]
[null,-26809,-18837,-3065,-15772,-7972,-3244,-3056,-106,-231,-1031,-290,-14]
["平成７年",35704,23501,2342,21159,12203,4977,4367,251,383,1629,591,5,"－","平成７年"]
[null,-31101,-21092,-2342,-18750,-10009,-3857,-4027,-136,-336,-1142,-506,-5]
["平成12年",35736,23051,2422,20629,12685,4940,4762,287,422,1581,658,35,"－","平成12年"]
[null,-30926,-20516,-2422,-18094,-10410,-3835,-4349,-152,-343,-1139,-559,-33]
["平成17年",36133,22472,2222,20250,13661,4802,5609,383,470,1544,762,91,"－","平成17年"]
[null,-31398,-19830,-2222,-17608,-11568,-3832,-5164,-207,-413,-1262,-604,-86]
["平成22年",35636,21029,1814,19215,13370,4776,5552,325,555,1408,708,64,"－","平成22年"]
[null,-30715,-18458,-1814,-16644,-11248,-555,-5085,-194,-488,-1136,-580,-58]
["〈資料〉総務省　国勢調査",null,null,null,null,null,null,null,null,null,null,null,null,"（単位：人）"]
["　　注）（ ）内は就業者数。総数と就業者数の差は通学者数。"]
[]
["９）恵庭市に就業・通学する常住市町村別１５歳以上就業者および通学者数"]
[null,null,null,null,null,null,null,null,null,null,null,null,"（各年10月1日）"]
["年　　次","総　　　数","市内に常住する者","他　の　市　町　村　に　常　住　　す　る　者",null,null,null,null,null,null,null,"不　　　詳","年　　次"]
[null,null,null,"小　　計","札　幌　市","千　歳　市","江　別　市","苫小牧市","北広島市","その他市町村","道　　　外"]
["平成２年",25667,20688,4979,1761,1688,156,96,991,285,2,"－","平成２年"]
[null,-22749,-18837,-3912,-1456,-1374,-138,-72,-627,-243,-2]
["平成７年",30207,23501,6706,2555,2094,249,160,1170,465,13,"－","平成７年"]
[null,-26401,-21092,-5309,-2006,-1753,-209,-118,-838,-372,-13]
["平成12年",31417,23051,8366,3201,2544,359,203,1466,570,23,"－","平成12年"]
[null,-27096,-20516,-6580,-2529,-1967,-308,-133,-1177,-443,-23]
["平成17年",31673,22472,9201,3520,2520,495,272,1647,719,28,"－","平成17年"]
[null,-26987,-19830,-7157,-2794,-1959,-400,-157,-1328,-495,-24]
["平成22年",32066,21029,9864,3930,2799,510,288,1516,750,12,"－","平成22年"]
[null,-27048,-18458,-7639,-3046,-2211,-396,173,-1275,-498,-11]
["〈資料〉総務省　国勢調査",null,null,null,null,null,null,null,null,null,null,"（単位：人）"]

{"sheet":"産業別就業人口","index":19,"n_rows":44,"n_cols":23,"rows_kept":44,"cut":false,"hidden":false,"merged":[[1,21,1,22],[42,21,42,22],[2,18,2,22],[2,0,3,2],[2,15,2,17],[42,0,42,2],[41,0,41,2],[4,0,4,2],[6,1,6,2],[12,1,12,2],[18,1,18,2],[2,3,2,5],[2,6,2,8],[2,9,2,11],[2,12,2,14]]}
["１０）産業別就業人口（男女別１５歳以上就業者）"]
[null,null,null,null,null,null,null,null,null,null,null,null,null,null,null,null,null,null,null,null,null,"（各年10月1日）"]
["産 業 分 類",null,null,"平成2年",null,null,"平成7年",null,null,"平成12年",null,null,"平成17年",null,null,"平成22年",null,null,"産業別割合（％）"]
[null,null,null,"総　数","男","女","総　数","男","女","総　数","男","女","総　数","男","女","総　数","男","女","平成2年","平成7年","平成12年","平成17年","平成22年"]
["総数",null,null,26809,17476,9333,31101,19824,11277,30926,19368,11558,{"$f":"M7+M13+M19+M42","v":31398},{"$f":"N7+N13+N19+N42","v":19094},{"$f":"O7+O13+O19+O42","v":12304},30715,18226,12489,100,100,100,{"$f":"V7+V13+V19+V42","v":100},{"$f":"W7+W13+W19+W42","v":100}]
[]
[null,"第１次産業",null,1652,886,766,1523,778,745,1387,712,675,{"$f":"M9+M10+M11","v":1464},778,686,1151,613,538,6.2,4.9000000000000004,4.5,{"$f":"M7/M5*100","v":4.662717370533155},{"$f":"P7/P5*100","v":3.7473547126811004}]
[null,null,"農業・林業",{"$f":"SUM(D9:D10)","v":1614},{"$f":"SUM(E9:E10)","v":859},755,1484,753,731,1341,683,658,1447,768,679,1144,609,535,6,4.8,4.3,4.5999999999999996,3.7]
[null,null,"農業",1491,759,732,1401,687,714,1295,646,649,{"$f":"N9+O9","v":1413},737,676,1111,578,533,5.6,4.5,4.2,4.5,"(3.6)"]
[null,null,"林業",123,100,23,83,66,17,46,37,9,{"$f":"N10+O10","v":34},31,3,33,31,2,0.5,0.3,0.1,0.1,"(0.1)"]
[null,null,"漁業",38,27,11,39,25,14,46,29,17,{"$f":"N11+O11","v":17},10,7,7,4,3,0.1,0.1,0.1,0.1,{"$f":"P11/31398*100","v":2.2294413656920822E-2}]
[]
[null,"第２次産業",null,6845,4848,1997,8411,5860,2551,7934,5580,2354,{"$f":"M15+M16+M17","v":7282},{"$f":"N15+N16+N17","v":5135},{"$f":"O16+O17","v":2147},{"$f":"P14+P16+P17","v":6688},{"$f":"Q14+Q16+Q17","v":4756},{"$f":"R14+R16+R17","v":1932},25.5,27,25.7,{"$f":"M13/M5*100","v":23.192560035671061},{"$f":"P13/P5*100","v":21.774377340061861}]
[null,null,"鉱業・採石業・砂利採取業",null,null,null,null,null,null,null,null,null,null,null,null,6,5,1,"…","…","…","…",{"$f":"P14/P13*W13","v":1.9534429431873678E-2}]
[null,null,"鉱業",14,14,"－",31,29,2,23,21,2,12,12,"－","…","…","…",0.1,0.1,0.1,0,"…"]
[null,null,"建設業",2759,2310,449,3118,2599,519,2806,2408,398,{"$f":"N16+O16","v":2502},2150,352,2051,1789,262,10.3,10,9.1,8,{"$f":"P16/P13*W13","v":6.677519127462153}]
[null,null,"製造業",4072,2524,1548,5262,3232,2030,5105,3151,1954,{"$f":"N17+O17","v":4768},2973,1795,4631,2962,1669,15.2,16.899999999999999,16.5,15.2,{"$f":"P17/P13*W13","v":15.077323783167834}]
[]
[null,"第３次産業",null,18274,11725,6549,21123,13158,7965,21369,12954,8415,{"$f":"M20+M21+M24+M25+M27+M28+M31+M36+M35+M37+M39+M40","v":22091},{"$f":"N20+N21+N24+N25+N27+N28+N31+N36+N35+N37+N39+N40","v":12834},{"$f":"O20+O21+O24+O25+O27+O28+O31+O36+O35+O37+O39+O40","v":9257},{"$f":"P20+P21+P22+P25+P28+P29+P32+P33+P34+P35+P36+P37+P40+P39","v":21548},12085,9463,68.3,67.900000000000006,69.099999999999994,{"$f":"M19/M5*100","v":70.357984585005411},{"$f":"P19/P5*100","v":70.154647566335669}]
[null,null,"電気･ガス・熱供給・水道業",106,95,11,137,122,15,140,126,14,{"$f":"N20+O20","v":134},119,15,155,135,20,0.4,0.4,0.5,0.4,{"$f":"P20/P19*W19","v":0.50463942699007003}]
[null,null,"情報通信業","…","…","…","…","…","…","…","…","…",{"$f":"N21+O21","v":384},310,74,341,239,102,"…","…","…",1.2,{"$f":"P21/P19*W19","v":1.1102067393781541}]
[null,null,"運輸業･郵便業","…","…","…","…","…","…","…","…","…","…","…","…",1913,1579,334,"…","…","…","…",{"$f":"P22/P19*W19","v":6.2282272505290575}]
[null,null,"運輸･通信業",1599,1397,202,1875,1563,312,1963,1559,404,"…","…","…","…","…","…",6,6,6.3,"…","…"]
[null,null,"運輸業","…","…","…","…","…","…","…","…","…",{"$f":"N24+O24","v":1773},1467,306,"…","…","…","…","…","…",5.6,"…"]
[null,null,"卸売･小売業","…","…","…","…","…","…","…","…","…",{"$f":"N25+O25","v":4591},2078,2513,4328,1928,2400,"…","…","…",14.6,{"$f":"P25/P19*W19","v":14.090835096858212}]
[null,null,"卸売･小売･飲食業",4724,2221,2503,5335,2461,2874,5434,2370,3064,"…","…","…","…","…","…",17.600000000000001,17.2,17.600000000000001,"…","…"]
[null,null,"飲食店・宿泊業","…","…","…","…","…","…","…","…","…",{"$f":"N27+O27","v":1374},459,915,"…","…","…","…","…","…",4.4000000000000004,"…"]
[null,null,"金融･保険業","…","…","…","…","…","…","…","…","…",{"$f":"N28+O28","v":506},217,289,422,182,240,"…","…","…",1.6,{"$f":"P28/P19*W19","v":1.3739215367084487}]
[null,null,"不動産業・物品賃貸業","…","…","…","…","…","…","…","…","…","…","…","…",453,310,143,"…","…","…","…",{"$f":"P29/P19*W19","v":1.4748494221064627}]
[null,null,"金融･保険業･不動産業",841,362,479,936,416,520,794,386,408,"…","…","…","…","…","…",3.1,3,2.6,"…","…"]
[null,null,"不動産業","…","…","…","…","…","…","…","…","…",{"$f":"N31+O31","v":267},193,74,"…","…","…","…","…","…",0.9,"…"]
[null,null,"学術研究・専門・技術サービス業","…","…","…","…","…","…","…","…","…","…","…","…",549,373,176,"…","…","…","…",{"$f":"P32/P19*W19","v":1.7874002930164414}]
[null,null,"宿泊業・飲食サービス業","…","…","…","…","…","…","…","…","…","…","…","…",1737,556,1181,"…","…","…","…",{"$f":"P33/P19*W19","v":5.655217320527429}]
[null,null,"生活関連サービス業，娯楽業","…","…","…","…","…","…","…","…","…","…","…","…",1589,618,971,"…","…","…","…",{"$f":"P34/P19*W19","v":5.1733680612078787}]
[null,null,"教育・学習支援業","…","…","…","…","…","…","…","…","…",{"$f":"N35+O35","v":1349},691,658,1246,594,652,"…","…","…",4.3,{"$f":"P35/P19*W19","v":4.0566498453524336}]
[null,null,"医療・福祉","…","…","…","…","…","…","…","…","…",{"$f":"N36+O36","v":2411},595,1816,2812,677,2135,"…","…","…",7.7,{"$f":"P36/P19*W19","v":9.1551359270714627}]
[null,null,"複合サービス業","…","…","…","…","…","…","…","…","…",{"$f":"N37+O37","v":359},229,130,202,116,86,"…","…","…",1.1000000000000001,{"$f":"P37/P19*W19","v":0.65765912420641381}]
[null,null,"サービス業",5629,2666,2963,7295,3518,3777,7835,3745,4090,"…","…","…","…","…","…",21,23.5,25.3,"…","…"]
[null,null,"サービス業(他に分類されないもの）","…","…","…","…","…","…","…","…","…",{"$f":"N39+O39","v":4417},2348,2069,1709,1090,619,"…","…","…",14.1,{"$f":"P39/P19*W19","v":5.5640566498453525}]
[null,null,"公務(他に分類されないもの）",5375,4984,391,5545,5078,467,5203,4768,435,{"$f":"N40+O40","v":4526},4128,398,4092,3688,404,20.100000000000001,17.8,16.8,14.4,{"$f":"P40/P19*W19","v":13.322480872537849}]
[]
["分類不能の産業",null,null,38,17,21,44,28,16,236,122,114,{"$f":"N42+O42","v":561},347,214,1328,772,556,0.1,0.2,0.7,{"$f":"M42/M5*100","v":1.7867380087903686},{"$f":"P42/P5*100","v":4.3236203809213736}]
["〈資料〉総務省　国勢調査　　　　　　　　　",null,null,null,null,null,null,null,null,null,null,null,null,null,null,null,null,null,null,null,null,"（単位：人）"]
["　　注) 総数の中に｢不詳｣を含んでいるので合計と総数は一致しない｡"]

{"sheet":"グラフ（入力シート）","index":20,"n_rows":12,"n_cols":5,"rows_kept":12,"cut":false,"hidden":false,"merged":[]}
[]
["年度",null,"道外","道内"]
["H22","転入",{"$f":"'社会動態（道外）'!$B$8+'社会動態（道外）'!$B$9","v":644},{"$f":"'社会動態（道外）'!$B$7","v":2398},{"$f":"C3+D3","v":3042}]
[null,"転出",{"$f":"'社会動態（道外）'!$C$8+'社会動態（道外）'!$C$9","v":767},2220,{"$f":"C4+D4","v":2987}]
["H23","転入",{"$f":"'社会動態（道外）'!$D$8+'社会動態（道外）'!$D$9","v":607},2404,3011]
[null,"転出",{"$f":"'社会動態（道外）'!$E$8+'社会動態（道外）'!$E$9","v":699},{"$f":"'社会動態（道外）'!$E$7","v":2276},2975]
["H24","転入",{"$f":"'社会動態（道外）'!$F$8+'社会動態（道外）'!$F$9","v":685},{"$f":"'社会動態（道外）'!$F$7","v":2235},2920]
[null,"転出",{"$f":"'社会動態（道外）'!$G$8+'社会動態（道外）'!$G$9","v":720},{"$f":"'社会動態（道外）'!$G$7","v":2083},2803]
["H25","転入",{"$f":"'社会動態（道外）'!$H$8+'社会動態（道外）'!$H$9","v":630},{"$f":"'社会動態（道外）'!$H$7","v":2242},2872]
[null,"転出",{"$f":"'社会動態（道外）'!$I$8+'社会動態（道外）'!$I$9","v":787},{"$f":"'社会動態（道外）'!$I$7","v":2308},3095]
["H26","転入",{"$f":"'社会動態（道外）'!$J$8+'社会動態（道外）'!$J$9","v":585},{"$f":"'社会動態（道外）'!$J$7","v":2536},3121]
[null,"転出",{"$f":"'社会動態（道外）'!$K$8+'社会動態（道外）'!$K$9","v":760},2186,2946]

{"sheet":"グラフ（入力シート）②","index":21,"n_rows":27,"n_cols":17,"rows_kept":27,"cut":false,"hidden":false,"merged":[]}
[]
[null,null,null,null,null,null,null,null,null,null,null,"平成22年国勢調査データより"]
[null,null,null,null,null,null,null,null,null,null,null,"産業別人口（男女別15歳以上就業者）"]
[null,null,null,null,null,null,null,null,null,null,null,null,"第１次産業","第２次産業","第３次産業","分類不能の産業"]
[null,null,null,null,null,null,null,null,null,null,null,"割合",3.7,21.8,70.2,4.3,{"$f":"SUM(M5:P5)","v":100}]
[null,null,null,null,null,null,null,null,null,null,null,"人数",1151,6688,21548,1328]
[]
[]
[]
[]
[]
[]
[]
[]
[]
[]
[]
[]
[]
[]
[]
[]
[null,null,null,null,null,null,null,null,null,null,null,null,"H22年","H17年","H12年","H7年","H2年"]
[null,null,null,null,null,null,null,null,null,null,null,"第1次産業",3.7,4.662717370533155,4.5,4.9000000000000004,6.2]
[null,null,null,null,null,null,null,null,null,null,null,"第2次産業",21.8,23.192560035671061,25.7,27,25.5]
[null,null,null,null,null,null,null,null,null,null,null,"第3次産業",70.2,70.357984585005411,69.099999999999994,67.900000000000006,68.3]
[null,null,null,null,null,null,null,null,null,null,null,"不詳",4.3,1.8,0.7,0.2,0.1]

{"sheet":"グラフ（入力シート）⑤","index":22,"n_rows":22,"n_cols":5,"rows_kept":22,"cut":false,"hidden":false,"merged":[[21,0,21,3],[2,0,2,1]]}
["３）年齢別人口（５歳階級）"]
[]
[null,null,"12年","17年","22年"]
[null,"85  以上",222,323,491]
[null,"80～84",386,500,948]
[null,"75～79",651,1175,1427]
[null,"70～74",1375,1589,1654]
[null,"65～69    ",1707,1786,1872]
[null,"60～64",1839,1945,2581]
[null,"55～59",1925,2530,2391]
[null,"50～54",2510,2401,2051]
[null,"45～49",2448,2069,2131]
[null,"40～44 ",2089,2135,2314]
[null,"35～39",2132,2235,2540]
[null,"30～34",2197,2482,2299]
[null,"25～29",2483,2237,1866]
[null,"20～24",2685,2430,2157]
[null,"15～19    ",2433,2272,2216]
[null,"10～14    ",1917,1903,1780]
[null,"5～9    ",1854,1742,1662]
[null,"0～4",1649,1563,1467]
["〈資料〉国勢調査　（第１次基本集計結果　第3表）",null,null,null,"（単位：人）"]

{"sheet":"グラフ（入力シート）⑥","index":23,"n_rows":22,"n_cols":5,"rows_kept":22,"cut":false,"hidden":false,"merged":[[2,0,2,1],[21,0,21,2]]}
["３）年齢別人口（５歳階級）"]
[]
[null,null,"12年","17年","22年"]
[null,"85  以上",502,785,1122]
[null,"80～84",607,798,1160]
[null,"75～79",884,1219,1588]
[null,"70～74",1290,1659,1958]
[null,"65～69",1689,2013,2207]
[null,"60～64",2027,2222,2750]
[null,"55～59",2178,2736,2566]
[null,"50～54",2707,2545,2113]
[null,"45～49",2526,2087,2207]
[null,"40～44",2065,2192,2312]
[null,"35～39",2131,2253,2526]
[null,"30～34",2119,2385,2221]
[null,"25～29",2274,2069,1833]
[null,"20～24",2226,2156,2028]
[null,"15～19",2311,2175,2008]
[null,"10～14",1881,1768,1718]
[null,"5～9",1728,1701,1602]
[null,"0～4",1591,1534,1461]
["〈資料〉国勢調査　（第１次基本集計結果　第3表）"]

{"sheet":"グラフ（入力シート）⑦","index":24,"n_rows":7,"n_cols":4,"rows_kept":7,"cut":false,"hidden":false,"merged":[]}
["市民の平均年齢の推移"]
[]
[null,"総数","男","女"]
["Ｈ7",36.799999999999997,35.9,37.700000000000003]
["H12",39.200000000000003,38.200000000000003,40.200000000000003]
["H17",41.3,40.200000000000003,42.4]
["H22",43.5,42.3,44.6]